BEGIN:VCALENDAR
VERSION:2.0
PRODID:-//www.cradleofaviation.org//NONSGML kigkonsult.se iCalcreator 2.30.
 10//
CALSCALE:GREGORIAN
METHOD:PUBLISH
UID:5c0c3fe7-b9dd-40fe-a527-d79fbb743076
X-WR-CALDESC:Explore the night sky with your favorite friends from Sesame S
 treet in One World\, One Sky: Big Bird's Adventure. Follow along with Big 
 Bird\, Elmo and their friend from China\, Hu Hu Zhu\, as they take you on 
 a journey of discovery to learn about the Big Dipper\, the North Star\, th
 e Sun\, and the Moon. \n\nRunning time\, 25 minutes.
X-WR-RELCALID:c03d6a7e48c25a0f0389c5ee1cecbe1c
X-WR-TIMEZONE:America/New_York
BEGIN:VTIMEZONE
TZID:America/New_York
BEGIN:STANDARD
TZNAME:EST
DTSTART:20251102T020000
TZOFFSETFROM:-0400
TZOFFSETTO:-0500
RDATE:20261101T020000
END:STANDARD
BEGIN:DAYLIGHT
TZNAME:EDT
DTSTART:20260308T020000
TZOFFSETFROM:-0500
TZOFFSETTO:-0400
RDATE:20270314T020000
END:DAYLIGHT
END:VTIMEZONE
BEGIN:VEVENT
UID:5c1e041a-2abf-46cc-8545-c79abbd389b0
DTSTAMP:20260422T192531Z
DESCRIPTION:Explore the night sky with your favorite friends from Sesame St
 reet in One World\, One Sky: Big Bird's Adventure. Follow along with Big B
 ird\, Elmo and their friend from China\, Hu Hu Zhu\, as they take you on a
  journey of discovery to learn about the Big Dipper\, the North Star\, the
  Sun\, and the Moon. \n\nRunning time\, 25 minutes.
DTSTART;TZID=America/New_York:20260418T110000
DTEND;TZID=America/New_York:20260418T110000
LOCATION:
SUMMARY:One World One Sky: Big Bird's Adventure
END:VEVENT
END:VCALENDAR
