BEGIN:VCALENDAR
VERSION:2.0
PRODID:-//www.cradleofaviation.org//NONSGML kigkonsult.se iCalcreator 2.30.
 10//
CALSCALE:GREGORIAN
METHOD:PUBLISH
UID:609f141f-35b4-462e-86ec-95b763ae12f6
X-WR-CALDESC:Spark your students’ curiosity with this 50-minute planetarium
  program. In the first 20 minutes\, students will look at constellations\,
  hear stories\, and learn astronomy vocabulary with one of our museum educ
 ators\, including constellations inspired by water and ocean life.\n\nThen
  we’ll watch a 30-minute show. Students will learn about the ocean with Oc
 ean Paradise.
X-WR-RELCALID:95966e23b9b033b00cb3b1d66fdc2a01
X-WR-TIMEZONE:America/New_York
BEGIN:VTIMEZONE
TZID:America/New_York
BEGIN:STANDARD
TZNAME:EST
DTSTART:20251102T020000
TZOFFSETFROM:-0400
TZOFFSETTO:-0500
RDATE:20261101T020000
RDATE:20271107T020000
END:STANDARD
BEGIN:DAYLIGHT
TZNAME:EDT
DTSTART:20260308T020000
TZOFFSETFROM:-0500
TZOFFSETTO:-0400
RDATE:20270314T020000
END:DAYLIGHT
END:VTIMEZONE
BEGIN:VEVENT
UID:aa92c454-d046-4041-9b87-e71ebe1f607f
DTSTAMP:20260424T082715Z
DESCRIPTION:Spark your students’ curiosity with this 50-minute planetarium 
 program. In the first 20 minutes\, students will look at constellations\, 
 hear stories\, and learn astronomy vocabulary with one of our museum educa
 tors\, including constellations inspired by water and ocean life.\n\nThen 
 we’ll watch a 30-minute show. Students will learn about the ocean with Oce
 an Paradise.
DTSTART;TZID=America/New_York:20260513T120000
DTEND;TZID=America/New_York:20260513T120000
LOCATION:
SUMMARY:Ocean Jetsetters
END:VEVENT
END:VCALENDAR
