BEGIN:VCALENDAR
VERSION:2.0
PRODID:-//www.cradleofaviation.org//NONSGML kigkonsult.se iCalcreator 2.30.
 10//
CALSCALE:GREGORIAN
METHOD:PUBLISH
UID:79e0bdef-2a0d-472b-be05-66bced8564d2
X-WR-CALDESC:Explore the night sky with your favorite friends from Sesame S
 treet in One World\, One Sky: Big Bird's Adventure. Follow along with Big 
 Bird\, Elmo and their friend from China\, Hu Hu Zhu\, as they take you on 
 a journey of discovery to learn about the Big Dipper\, the North Star\, th
 e Sun and the Moon. \n\nRunning time\, 25 minutes.\n\nJust a $5.00 add-on 
 to your museum admission!\n\nOne World\, One Sky: Big Bird's Adventure was
  created as part of a global partnership between the Adler Planetarium\; S
 esame Workshop\, the nonprofit educational organization behind Sesame Stre
 et\; the Beijing Planetarium\; and the Liberty Science Center (Jersey City
 \, NJ).
X-WR-RELCALID:5391df000a29fdf74eb2d85a325d952b
X-WR-TIMEZONE:America/New_York
BEGIN:VTIMEZONE
TZID:America/New_York
BEGIN:STANDARD
TZNAME:EST
DTSTART:20211107T020000
TZOFFSETFROM:-0400
TZOFFSETTO:-0500
RDATE:20221106T020000
END:STANDARD
BEGIN:DAYLIGHT
TZNAME:EDT
DTSTART:20210314T020000
TZOFFSETFROM:-0500
TZOFFSETTO:-0400
RDATE:20220313T020000
RDATE:20230312T020000
END:DAYLIGHT
END:VTIMEZONE
BEGIN:VEVENT
UID:5d4505da-5f77-4768-b8f0-d6c1884379e8
DTSTAMP:20260421T061101Z
DESCRIPTION:Explore the night sky with your favorite friends from Sesame St
 reet in One World\, One Sky: Big Bird's Adventure. Follow along with Big B
 ird\, Elmo and their friend from China\, Hu Hu Zhu\, as they take you on a
  journey of discovery to learn about the Big Dipper\, the North Star\, the
  Sun and the Moon. \n\nRunning time\, 25 minutes.\n\nJust a $5.00 add-on t
 o your museum admission!\n\nOne World\, One Sky: Big Bird's Adventure was 
 created as part of a global partnership between the Adler Planetarium\; Se
 same Workshop\, the nonprofit educational organization behind Sesame Stree
 t\; the Beijing Planetarium\; and the Liberty Science Center (Jersey City\
 , NJ).
DTSTART;TZID=America/New_York:20211230T110000
DTEND;TZID=America/New_York:20211230T110000
LOCATION:
SUMMARY:One World One Sky: Big Bird's Adventure
END:VEVENT
END:VCALENDAR
