BEGIN:VCALENDAR
VERSION:2.0
PRODID:-//www.cradleofaviation.org//NONSGML kigkonsult.se iCalcreator 2.30.
 10//
CALSCALE:GREGORIAN
METHOD:PUBLISH
UID:adf12369-652b-4e40-bf28-6a59c08ef581
X-WR-CALDESC:Birth of Planet Earth tells the twisted tale of our planet’s o
 rigins.\n\nScientists now believe that our galaxy is filled with solar sys
 tems\, including up to a billion planets roughly the size of our own. The 
 film employs advanced\, data-driven\, cinematic-quality visualizations to 
 explore some of the greatest questions in science today: How did Earth bec
 ome a living planet in the wake of our solar system’s violent birth? What 
 does its history tell us about our chances of finding other worlds that ar
 e truly Earth-like?\n\nProduced by Spitz Creative Media\, NCSA’s Advanced 
 Visualization Lab\, Thomas Lucas Productions\, Inc.\, in association with 
 Tellus Science Museum.  This project has been made possible with support f
 rom the Commonwealth of Pennsylvania and the Greater Philadelphia Film Off
 ice\; funded in part by the National Science Foundation.\n\nRuntime: 24 mi
 nutes\nSuitable for: General Audiences\, Grades 6-8\, Grades 9-12 & Colleg
 e\n\nJust a $5.00 add-on to your paid museum admission!\n\n(Members receiv
 e a $1.50 discount on planetarium shows)\n\n<h3><a href='https://www.cradl
 eofaviation.org/plan_your_visit/buy-tickets-now.html'>Buy Tickets Now</a><
 /h3>
X-WR-RELCALID:31be6fcf32ac3a986aadae8c9ca9027d
X-WR-TIMEZONE:America/New_York
BEGIN:VTIMEZONE
TZID:America/New_York
BEGIN:STANDARD
TZNAME:EST
DTSTART:20211107T020000
TZOFFSETFROM:-0400
TZOFFSETTO:-0500
RDATE:20221106T020000
RDATE:20231105T020000
END:STANDARD
BEGIN:DAYLIGHT
TZNAME:EDT
DTSTART:20220313T020000
TZOFFSETFROM:-0500
TZOFFSETTO:-0400
RDATE:20230312T020000
END:DAYLIGHT
END:VTIMEZONE
BEGIN:VEVENT
UID:b27712b7-4012-4d51-802e-8e5f53e9167b
DTSTAMP:20260420T064149Z
DESCRIPTION:Birth of Planet Earth tells the twisted tale of our planet’s or
 igins.\n\nScientists now believe that our galaxy is filled with solar syst
 ems\, including up to a billion planets roughly the size of our own. The f
 ilm employs advanced\, data-driven\, cinematic-quality visualizations to e
 xplore some of the greatest questions in science today: How did Earth beco
 me a living planet in the wake of our solar system’s violent birth? What d
 oes its history tell us about our chances of finding other worlds that are
  truly Earth-like?\n\nProduced by Spitz Creative Media\, NCSA’s Advanced V
 isualization Lab\, Thomas Lucas Productions\, Inc.\, in association with T
 ellus Science Museum.  This project has been made possible with support fr
 om the Commonwealth of Pennsylvania and the Greater Philadelphia Film Offi
 ce\; funded in part by the National Science Foundation.\n\nRuntime: 24 min
 utes\nSuitable for: General Audiences\, Grades 6-8\, Grades 9-12 & College
 \n\nJust a $5.00 add-on to your paid museum admission!\n\n(Members receive
  a $1.50 discount on planetarium shows)\n\n<h3><a href='https://www.cradle
 ofaviation.org/plan_your_visit/buy-tickets-now.html'>Buy Tickets Now</a></
 h3>
DTSTART;TZID=America/New_York:20220601T140000
DTEND;TZID=America/New_York:20220601T140000
LOCATION:
SUMMARY:Birth of Planet Earth
END:VEVENT
END:VCALENDAR
