BEGIN:VCALENDAR
VERSION:2.0
PRODID:-//www.cradleofaviation.org//NONSGML kigkonsult.se iCalcreator 2.30.
 10//
CALSCALE:GREGORIAN
METHOD:PUBLISH
UID:9c511ab5-6a8a-49fa-8cfd-d7575d49e3e3
X-WR-CALDESC:\n<b>Volcanoes: The Fires of Creation is a tale of science\, c
 ulture\, and thrilling adventure.</b>\n\nEarth is a planet born of fire. F
 or billions of years\, volcanoes have helped forge the world we know. From
  the continents to the air we breathe and even life itself\, all have been
  shaped by volcanic energy. These processes have created extraordinary eco
 systems and wildlife habitats. With over 500 active volcanoes\, the Earth 
 is bursting at the seams with these forces of mass construction. The story
  of volcanoes is the story of the planet’s creation and the story of us.\n
 \nWith intrepid explorer Carsten Peter\, dodge boulders at the edge of an 
 active volcano in Indonesia\, descend to a lava lake in Vanuatu and visit 
 incredible acid ponds\, geysers and mineral deposit fields in Ethiopia. Tr
 avel across the globe to see the archeological ghost town of Pompeii\, hyd
 rothermal vents at the bottom of the ocean and witness the devastating eff
 ects of the 2018 Kilauea eruption in Hawaii.\n\nAudiences will be on the e
 dge of their seats as they discover molten worlds and exploding craters in
  this adrenaline-filled\, immersive experience that only IMAX®/Giant Scree
 n films can provide.
X-WR-RELCALID:bd7917471720b12b108f9a6fc28d905e
X-WR-TIMEZONE:America/New_York
BEGIN:VTIMEZONE
TZID:America/New_York
BEGIN:STANDARD
TZNAME:EST
DTSTART:20191103T020000
TZOFFSETFROM:-0400
TZOFFSETTO:-0500
RDATE:20201101T020000
END:STANDARD
BEGIN:DAYLIGHT
TZNAME:EDT
DTSTART:20190310T020000
TZOFFSETFROM:-0500
TZOFFSETTO:-0400
RDATE:20200308T020000
RDATE:20210314T020000
END:DAYLIGHT
END:VTIMEZONE
BEGIN:VEVENT
UID:ead56a43-0895-471e-9a5e-231c80b4689e
DTSTAMP:20260424T072805Z
DESCRIPTION:\n<b>Volcanoes: The Fires of Creation is a tale of science\, cu
 lture\, and thrilling adventure.</b>\n\nEarth is a planet born of fire. Fo
 r billions of years\, volcanoes have helped forge the world we know. From 
 the continents to the air we breathe and even life itself\, all have been 
 shaped by volcanic energy. These processes have created extraordinary ecos
 ystems and wildlife habitats. With over 500 active volcanoes\, the Earth i
 s bursting at the seams with these forces of mass construction. The story 
 of volcanoes is the story of the planet’s creation and the story of us.\n
 \nWith intrepid explorer Carsten Peter\, dodge boulders at the edge of an 
 active volcano in Indonesia\, descend to a lava lake in Vanuatu and visit 
 incredible acid ponds\, geysers and mineral deposit fields in Ethiopia. Tr
 avel across the globe to see the archeological ghost town of Pompeii\, hyd
 rothermal vents at the bottom of the ocean and witness the devastating eff
 ects of the 2018 Kilauea eruption in Hawaii.\n\nAudiences will be on the e
 dge of their seats as they discover molten worlds and exploding craters in
  this adrenaline-filled\, immersive experience that only IMAX®/Giant Scree
 n films can provide.
DTSTART;TZID=America/New_York:20191205T110000
DTEND;TZID=America/New_York:20191205T110000
LOCATION:
SUMMARY:Volcanoes: The Fires of Creation
END:VEVENT
END:VCALENDAR
