BEGIN:VCALENDAR
VERSION:2.0
PRODID:-//www.cradleofaviation.org//NONSGML kigkonsult.se iCalcreator 2.30.
 10//
CALSCALE:GREGORIAN
METHOD:PUBLISH
UID:d861449e-c573-49d0-97ca-f8f715375a18
X-WR-CALDESC:Space Labs are live\, interactive shows in the Planetarium. Ea
 ch session features two unique 20-minute programs presented by local space
  enthusiasts\, including astronomers\, educators\, and other experts passi
 onate about space science.\n\nRunning time: 40 minutes\n \n
X-WR-RELCALID:3147d0ac8cb23658d5a72193ca1b57fe
X-WR-TIMEZONE:America/New_York
BEGIN:VTIMEZONE
TZID:America/New_York
BEGIN:STANDARD
TZNAME:EST
DTSTART:20251102T020000
TZOFFSETFROM:-0400
TZOFFSETTO:-0500
RDATE:20261101T020000
END:STANDARD
BEGIN:DAYLIGHT
TZNAME:EDT
DTSTART:20260308T020000
TZOFFSETFROM:-0500
TZOFFSETTO:-0400
RDATE:20270314T020000
END:DAYLIGHT
END:VTIMEZONE
BEGIN:VEVENT
UID:7950262f-ddab-43dc-8f14-1ac7c8934691
DTSTAMP:20260426T023421Z
DESCRIPTION:Space Labs are live\, interactive shows in the Planetarium. Eac
 h session features two unique 20-minute programs presented by local space 
 enthusiasts\, including astronomers\, educators\, and other experts passio
 nate about space science.\n\nRunning time: 40 minutes\n \n
DTSTART;TZID=America/New_York:20260409T120000
DTEND;TZID=America/New_York:20260409T120000
LOCATION:
SUMMARY:Space Lab
END:VEVENT
END:VCALENDAR
