BEGIN:VCALENDAR
VERSION:2.0
PRODID:-//www.cradleofaviation.org//NONSGML kigkonsult.se iCalcreator 2.30.
 10//
CALSCALE:GREGORIAN
METHOD:PUBLISH
UID:ec269b7b-7357-47ae-b9f4-a01e8c9dd56e
X-WR-CALDESC:The Museum and Theater will be closed for the first two weeks 
 of September (9/4-9/8 and 9/11-9/15) for annual maintenance and cleaning. 
 We will be open on Saturday and Sunday\, September 9-10 from 9:30-5:00.\n
 \nWe will return to our normal school year schedule on September 16\, and 
 will be open Tuesday-Sunday from 9:30-5:00 and open on Mondays that fall o
 n holidays and school breaks.
X-WR-RELCALID:0b2946444228d6d8e52772360e3656a0
X-WR-TIMEZONE:America/New_York
BEGIN:VTIMEZONE
TZID:America/New_York
BEGIN:STANDARD
TZNAME:EST
DTSTART:20161106T020000
TZOFFSETFROM:-0400
TZOFFSETTO:-0500
RDATE:20171105T020000
RDATE:20181104T020000
END:STANDARD
BEGIN:DAYLIGHT
TZNAME:EDT
DTSTART:20170312T020000
TZOFFSETFROM:-0500
TZOFFSETTO:-0400
RDATE:20180311T020000
RDATE:20190310T020000
END:DAYLIGHT
END:VTIMEZONE
BEGIN:VEVENT
UID:621d5505-41e3-4b09-8de1-bd6390b5079c
DTSTAMP:20260424T093332Z
DESCRIPTION:The Museum and Theater will be closed for the first two weeks o
 f September (9/4-9/8 and 9/11-9/15) for annual maintenance and cleaning. W
 e will be open on Saturday and Sunday\, September 9-10 from 9:30-5:00.\n\n
 We will return to our normal school year schedule on September 16\, and wi
 ll be open Tuesday-Sunday from 9:30-5:00 and open on Mondays that fall on 
 holidays and school breaks.
DTSTART;TZID=America/New_York:20170908T000000
DTEND;TZID=America/New_York:20170908T235900
LOCATION:
SUMMARY:Museum & Theater Closed
END:VEVENT
END:VCALENDAR
