BEGIN:VCALENDAR
VERSION:2.0
PRODID:-//www.cradleofaviation.org//NONSGML kigkonsult.se iCalcreator 2.30.
 10//
CALSCALE:GREGORIAN
METHOD:PUBLISH
UID:33362302-9227-4a4a-a805-a1f8f3b770b6
X-WR-CALDESC:Explore the night sky with your favorite friends from Sesame S
 treet in One World\, One Sky: Big Bird's Adventure. Follow along with Big 
 Bird\, Elmo and their friend from China\, Hu Hu Zhu\, as they take you on 
 a journey of discovery to learn about the Big Dipper\, the North Star\, th
 e Sun and the Moon. Running time\, 25 minutes.\n\nOne World\, One Sky: Big
  Bird's Adventure was created as part of a global partnership between the 
 Adler Planetarium\; Sesame Workshop\, the nonprofit educational organizati
 on behind Sesame Street\; the Beijing Planetarium\; and the Liberty Scienc
 e Center (Jersey City\, NJ).
X-WR-RELCALID:169b95acfa0866cfede162b96d5fc6c2
X-WR-TIMEZONE:America/New_York
BEGIN:VTIMEZONE
TZID:America/New_York
BEGIN:STANDARD
TZNAME:EST
DTSTART:20161106T020000
TZOFFSETFROM:-0400
TZOFFSETTO:-0500
RDATE:20171105T020000
RDATE:20181104T020000
END:STANDARD
BEGIN:DAYLIGHT
TZNAME:EDT
DTSTART:20170312T020000
TZOFFSETFROM:-0500
TZOFFSETTO:-0400
RDATE:20180311T020000
END:DAYLIGHT
END:VTIMEZONE
BEGIN:VEVENT
UID:e59b849c-0658-43af-b4bd-4b207fbc52d2
DTSTAMP:20260424T020706Z
DESCRIPTION:Explore the night sky with your favorite friends from Sesame St
 reet in One World\, One Sky: Big Bird's Adventure. Follow along with Big B
 ird\, Elmo and their friend from China\, Hu Hu Zhu\, as they take you on a
  journey of discovery to learn about the Big Dipper\, the North Star\, the
  Sun and the Moon. Running time\, 25 minutes.\n\nOne World\, One Sky: Big 
 Bird's Adventure was created as part of a global partnership between the A
 dler Planetarium\; Sesame Workshop\, the nonprofit educational organizatio
 n behind Sesame Street\; the Beijing Planetarium\; and the Liberty Science
  Center (Jersey City\, NJ).
DTSTART;TZID=America/New_York:20170903T100000
DTEND;TZID=America/New_York:20170903T100000
LOCATION:
SUMMARY:One World One Sky: Big Bird's Adventure
END:VEVENT
END:VCALENDAR
