BEGIN:VCALENDAR
VERSION:2.0
PRODID:-//www.cradleofaviation.org//NONSGML kigkonsult.se iCalcreator 2.30.
 10//
CALSCALE:GREGORIAN
METHOD:PUBLISH
UID:059ae3db-2afe-4057-9578-8ec584f1273d
X-WR-CALDESC:<b>Nassau Reptile Expo at the Cradle of Aviation Museum</b>\n
 \nSaturday\, October 3rd \n\n9:30 am - 4:00 pm \n\nAdmission includes acce
 ss to the Cradle of Aviation Museum galleries and Nassau Reptile Expo. \n
 \nThe Expo features over 175 tables of reptile\, amphibian\, and invertebr
 ate breeders and supply vendors. \n\nPlease note: Tickets are NOT availabl
 e through the Cradle of Aviation Museum. To purchase tickets\, please visi
 t the link below.\n\n<b>Please note: Museum Library passes are not valid f
 or this special event.</b>
X-WR-RELCALID:209a3944173cdc2cc206531464e138c7
X-WR-TIMEZONE:America/New_York
BEGIN:VTIMEZONE
TZID:America/New_York
BEGIN:STANDARD
TZNAME:EST
DTSTART:20251102T020000
TZOFFSETFROM:-0400
TZOFFSETTO:-0500
RDATE:20261101T020000
RDATE:20271107T020000
END:STANDARD
BEGIN:DAYLIGHT
TZNAME:EDT
DTSTART:20260308T020000
TZOFFSETFROM:-0500
TZOFFSETTO:-0400
RDATE:20270314T020000
RDATE:20280312T020000
END:DAYLIGHT
END:VTIMEZONE
BEGIN:VEVENT
UID:7ccf6efe-67ab-4f70-8750-0c0ce273b1f9
DTSTAMP:20260420T013711Z
DESCRIPTION:<b>Nassau Reptile Expo at the Cradle of Aviation Museum</b>\n\n
 Saturday\, October 3rd \n\n9:30 am - 4:00 pm \n\nAdmission includes access
  to the Cradle of Aviation Museum galleries and Nassau Reptile Expo. \n\nT
 he Expo features over 175 tables of reptile\, amphibian\, and invertebrate
  breeders and supply vendors. \n\nPlease note: Tickets are NOT available t
 hrough the Cradle of Aviation Museum. To purchase tickets\, please visit t
 he link below.\n\n<b>Please note: Museum Library passes are not valid for 
 this special event.</b>
DTSTART;TZID=America/New_York:20261003T060000
DTEND;TZID=America/New_York:20261003T060001
LOCATION:
SUMMARY:Nassau Reptile Expo
END:VEVENT
END:VCALENDAR
