BEGIN:VCALENDAR
VERSION:2.0
PRODID:-//www.cradleofaviation.org//NONSGML kigkonsult.se iCalcreator 2.30.
 10//
CALSCALE:GREGORIAN
METHOD:PUBLISH
UID:57a531fc-dc26-4053-96e9-87c237d95501
X-WR-CALDESC:<h4>The LI Retro Gaming Expo Returns August 7th-9th\, 2026!</h
 4>\n\nFriday\, August 7th:\n3 pm – 9 pm (Vendor Marketplace open all day)
 \n\nSaturday\, August 8th:\n10 am – 8 pm (Vendor Marketplace open all day)
 \n\nSunday\, August 9th:\n10 am – 5 pm (Vendor Marketplace open all day)\n
 \nThe Long Island Retro Gaming Expo returns to the Cradle of Aviation Muse
 um this August 7th\, 8th\, and 9th. Tickets are now available for weekend 
 and single-day passes\, as well as merchandise add-ons.\n\nIt is highly re
 commended that you purchase your tickets online in advance before they sel
 l out. All ticket sales are final.\n\nThe Expo began with a simple idea\, 
 “Let’s make the kind of show we’d all want to go to!” And that’s exactly w
 hat we’ve done by providing a friendly and welcoming environment to everyo
 ne\, including guests\, volunteers\, and vendors.\n\nSince its inception i
 n 2015\, the Retro Gaming Expo has become a focal point of the growing nor
 theast gaming community.  Gamers and organizations of all types have chose
 n our venue to host annual tournaments\, meet their fans\, or just spend t
 ime together enjoying our shared passion.\n\n<b>Please Note: Museum Librar
 y Passes are not valid for this event</b>\n\n\n
X-WR-RELCALID:06543f53a40dc0e7674a8cd2cdcba611
X-WR-TIMEZONE:America/New_York
BEGIN:VTIMEZONE
TZID:America/New_York
BEGIN:STANDARD
TZNAME:EST
DTSTART:20251102T020000
TZOFFSETFROM:-0400
TZOFFSETTO:-0500
RDATE:20261101T020000
RDATE:20271107T020000
END:STANDARD
BEGIN:DAYLIGHT
TZNAME:EDT
DTSTART:20260308T020000
TZOFFSETFROM:-0500
TZOFFSETTO:-0400
RDATE:20270314T020000
END:DAYLIGHT
END:VTIMEZONE
BEGIN:VEVENT
UID:36dfad98-b677-4484-897a-9ad84cd76451
DTSTAMP:20260420T013140Z
DESCRIPTION:<h4>The LI Retro Gaming Expo Returns August 7th-9th\, 2026!</h4
 >\n\nFriday\, August 7th:\n3 pm – 9 pm (Vendor Marketplace open all day)\n
 \nSaturday\, August 8th:\n10 am – 8 pm (Vendor Marketplace open all day)\n
 \nSunday\, August 9th:\n10 am – 5 pm (Vendor Marketplace open all day)\n\n
 The Long Island Retro Gaming Expo returns to the Cradle of Aviation Museum
  this August 7th\, 8th\, and 9th. Tickets are now available for weekend an
 d single-day passes\, as well as merchandise add-ons.\n\nIt is highly reco
 mmended that you purchase your tickets online in advance before they sell 
 out. All ticket sales are final.\n\nThe Expo began with a simple idea\, “L
 et’s make the kind of show we’d all want to go to!” And that’s exactly wha
 t we’ve done by providing a friendly and welcoming environment to everyone
 \, including guests\, volunteers\, and vendors.\n\nSince its inception in 
 2015\, the Retro Gaming Expo has become a focal point of the growing north
 east gaming community.  Gamers and organizations of all types have chosen 
 our venue to host annual tournaments\, meet their fans\, or just spend tim
 e together enjoying our shared passion.\n\n<b>Please Note: Museum Library 
 Passes are not valid for this event</b>\n\n\n
DTSTART;TZID=America/New_York:20260809T060000
DTEND;TZID=America/New_York:20260809T060001
LOCATION:
SUMMARY:Long Island Retro Gaming Expo
END:VEVENT
END:VCALENDAR
