BEGIN:VCALENDAR
VERSION:2.0
PRODID:-//www.cradleofaviation.org//NONSGML kigkonsult.se iCalcreator 2.30.
 10//
CALSCALE:GREGORIAN
METHOD:PUBLISH
UID:00e70853-8bfa-4097-aa9c-36c560857ec6
X-WR-CALDESC:Join us under the Dome for Mesmerica 360: \n\nSat June 20:  6:
 00 PM | 7:15 PM | 8:30 PM\n\n\nEnjoy Mesmerica 360—a multi-sensory\, full-
 dome experience with 360° visuals and surround sound\, unlike anything you
 ’ve experienced before. Created by composer James Hood\, this limited-time
  presentation is designed to fully immerse you under the dome.\n\nRunning 
 time is approximately 50-60 minutes.\n\nPlease Note:\nSelect your preferre
 d date and showtime at checkout. Tickets are sold by performance (one date
  and one showtime per ticket) through Mesmerica.\nFor ticketing\, venue\, 
 or show information\, please contact the Mesmerica box office directly:\n
 \nCall: 1-888-780-7469\nEmail: boxoffice@changeworlds.org\n\n \n
X-WR-RELCALID:ad2f2d83bf889b538afb6c9ad2cbefb3
X-WR-TIMEZONE:America/New_York
BEGIN:VTIMEZONE
TZID:America/New_York
BEGIN:STANDARD
TZNAME:EST
DTSTART:20251102T020000
TZOFFSETFROM:-0400
TZOFFSETTO:-0500
RDATE:20261101T020000
RDATE:20271107T020000
END:STANDARD
BEGIN:DAYLIGHT
TZNAME:EDT
DTSTART:20260308T020000
TZOFFSETFROM:-0500
TZOFFSETTO:-0400
RDATE:20270314T020000
END:DAYLIGHT
END:VTIMEZONE
BEGIN:VEVENT
UID:1fe5ff23-7ae3-4ca5-ab05-f9b0604240f0
DTSTAMP:20260420T013205Z
DESCRIPTION:Join us under the Dome for Mesmerica 360: \n\nSat June 20:  6:0
 0 PM | 7:15 PM | 8:30 PM\n\n\nEnjoy Mesmerica 360—a multi-sensory\, full-d
 ome experience with 360° visuals and surround sound\, unlike anything you’
 ve experienced before. Created by composer James Hood\, this limited-time 
 presentation is designed to fully immerse you under the dome.\n\nRunning t
 ime is approximately 50-60 minutes.\n\nPlease Note:\nSelect your preferred
  date and showtime at checkout. Tickets are sold by performance (one date 
 and one showtime per ticket) through Mesmerica.\nFor ticketing\, venue\, o
 r show information\, please contact the Mesmerica box office directly:\n\n
 Call: 1-888-780-7469\nEmail: boxoffice@changeworlds.org\n\n \n
DTSTART;TZID=America/New_York:20260620T000000
DTEND;TZID=America/New_York:20260620T000000
LOCATION:
SUMMARY:Mesmerica 360 Planetarium Show
END:VEVENT
END:VCALENDAR
