BEGIN:VCALENDAR
VERSION:2.0
PRODID:-//www.cradleofaviation.org//NONSGML kigkonsult.se iCalcreator 2.30.
 10//
CALSCALE:GREGORIAN
METHOD:PUBLISH
UID:793a76a4-3d0d-490f-9865-31933dca0387
X-WR-CALDESC:<b>Join us on Friday\, May 22nd\, for an evening of live music
  and aviation\, featuring a behind-the-scenes look at one of the nation’s 
 most recognized flight teams.</b>\n\n<b>5:00 pm – 6:00 pm</b>\n• Museum Ga
 lleries: Explore the museum galleries\n• Live Music: Enjoy a performance i
 n the atrium by the Freeport Community Band\n\n<b>6:00 pm</b> – 'Air Force
  Elite: Thunderbirds'\nGo behind the scenes with the U.S. Air Force Thunde
 rbirds flight demonstration squadron. This documentary follows the elite p
 ilots through a high-stakes training season\, showcasing the precision\, t
 rust\, and coordination required to perform at the highest level.\n\nThis 
 event is free\, but reservations are required.\nCall 516-572-4066 (Monday–
 Friday\, 10 am – 4 pm) to reserve your seat.\n\nPart of the Museum’s Ameri
 ca 250 Celebration.
X-WR-RELCALID:75b52af0b1ecf237b75d74dab66d21d9
X-WR-TIMEZONE:America/New_York
BEGIN:VTIMEZONE
TZID:America/New_York
BEGIN:STANDARD
TZNAME:EST
DTSTART:20251102T020000
TZOFFSETFROM:-0400
TZOFFSETTO:-0500
RDATE:20261101T020000
RDATE:20271107T020000
END:STANDARD
BEGIN:DAYLIGHT
TZNAME:EDT
DTSTART:20260308T020000
TZOFFSETFROM:-0500
TZOFFSETTO:-0400
RDATE:20270314T020000
END:DAYLIGHT
END:VTIMEZONE
BEGIN:VEVENT
UID:8e9b16b5-4f86-45ff-918d-40f0dc306b0c
DTSTAMP:20260424T015411Z
DESCRIPTION:<b>Join us on Friday\, May 22nd\, for an evening of live music 
 and aviation\, featuring a behind-the-scenes look at one of the nation’s m
 ost recognized flight teams.</b>\n\n<b>5:00 pm – 6:00 pm</b>\n• Museum Gal
 leries: Explore the museum galleries\n• Live Music: Enjoy a performance in
  the atrium by the Freeport Community Band\n\n<b>6:00 pm</b> – 'Air Force 
 Elite: Thunderbirds'\nGo behind the scenes with the U.S. Air Force Thunder
 birds flight demonstration squadron. This documentary follows the elite pi
 lots through a high-stakes training season\, showcasing the precision\, tr
 ust\, and coordination required to perform at the highest level.\n\nThis e
 vent is free\, but reservations are required.\nCall 516-572-4066 (Monday–F
 riday\, 10 am – 4 pm) to reserve your seat.\n\nPart of the Museum’s Americ
 a 250 Celebration.
DTSTART;TZID=America/New_York:20260522T170000
DTEND;TZID=America/New_York:20260522T200000
LOCATION:
SUMMARY:“Air Force Elite: Thunderbirds” Movie Screening
END:VEVENT
END:VCALENDAR
