BEGIN:VCALENDAR
VERSION:2.0
PRODID:-//www.cradleofaviation.org//NONSGML kigkonsult.se iCalcreator 2.30.
 10//
CALSCALE:GREGORIAN
METHOD:PUBLISH
UID:e974eaf7-30bc-4c19-97b9-00fd6a5fafd2
X-WR-CALDESC:Cradle-Con is Long Island’s non-profit comic\, collectible\, a
 nd pop culture convention\, built by fans for fans. \n      \nHours: Satur
 day\, May 16th & Sunday\, May 17th\n<b> 10 am - 5 pm</b>\n\n<h3><a href='h
 ttps://www.cradleofaviation.org/plan_your_visit/cradle-con.html'>Please vi
 sit our Cradle-Con landing page here for full details and ticketing!</a></
 h3>\n\n\n<b>Please note: May 16th and 17th are blackout dates for library 
 membership passes.</b>
X-WR-RELCALID:82188f69598423e07e2379ebd8d58845
X-WR-TIMEZONE:America/New_York
BEGIN:VTIMEZONE
TZID:America/New_York
BEGIN:STANDARD
TZNAME:EST
DTSTART:20251102T020000
TZOFFSETFROM:-0400
TZOFFSETTO:-0500
RDATE:20261101T020000
RDATE:20271107T020000
END:STANDARD
BEGIN:DAYLIGHT
TZNAME:EDT
DTSTART:20260308T020000
TZOFFSETFROM:-0500
TZOFFSETTO:-0400
RDATE:20270314T020000
END:DAYLIGHT
END:VTIMEZONE
BEGIN:VEVENT
UID:e787745b-1b3d-403f-a22c-06358277a9cf
DTSTAMP:20260420T013517Z
DESCRIPTION:Cradle-Con is Long Island’s non-profit comic\, collectible\, an
 d pop culture convention\, built by fans for fans. \n      \nHours: Saturd
 ay\, May 16th & Sunday\, May 17th\n<b> 10 am - 5 pm</b>\n\n<h3><a href='ht
 tps://www.cradleofaviation.org/plan_your_visit/cradle-con.html'>Please vis
 it our Cradle-Con landing page here for full details and ticketing!</a></h
 3>\n\n\n<b>Please note: May 16th and 17th are blackout dates for library m
 embership passes.</b>
DTSTART;TZID=America/New_York:20260517T060000
DTEND;TZID=America/New_York:20260517T060001
LOCATION:
SUMMARY:Cradle-Con: A Comic\, Collectible and Pop Culture Con
END:VEVENT
END:VCALENDAR
