BEGIN:VCALENDAR
VERSION:2.0
PRODID:-//www.cradleofaviation.org//NONSGML kigkonsult.se iCalcreator 2.30.
 10//
CALSCALE:GREGORIAN
METHOD:PUBLISH
UID:1ff77eed-bb0c-490f-9ad1-657a3748c23f
X-WR-CALDESC:<b>Please join us Thursday\, May 14th\, for an engaging discus
 sion and book signing event featuring author Becky Aikman.</b>\n\nAikman w
 ill discuss 'Spitfires: The American Women Who Flew in the Face of Danger 
 During World War II\,' the heart-pounding true story of the daring America
 n women who piloted the world’s most dangerous aircraft through the treach
 erous skies of Britain during World War II.\n\nShe’ll discuss Spitfires\, 
 take questions\, and sign books following the talk.\n\nThe event is free\,
  but reservations are required. Please call 516-572-4066 (Monday through F
 riday\, 10 a.m. to 4 p.m.) to reserve your seat.\n\nYou can bring your own
  book or purchase a copy at the event.
X-WR-RELCALID:0cb4ef3f3056ce1a77399467646354ff
X-WR-TIMEZONE:America/New_York
BEGIN:VTIMEZONE
TZID:America/New_York
BEGIN:STANDARD
TZNAME:EST
DTSTART:20251102T020000
TZOFFSETFROM:-0400
TZOFFSETTO:-0500
RDATE:20261101T020000
RDATE:20271107T020000
END:STANDARD
BEGIN:DAYLIGHT
TZNAME:EDT
DTSTART:20260308T020000
TZOFFSETFROM:-0500
TZOFFSETTO:-0400
RDATE:20270314T020000
END:DAYLIGHT
END:VTIMEZONE
BEGIN:VEVENT
UID:f76222d9-9013-40c2-a2e4-4788b5496895
DTSTAMP:20260424T020002Z
DESCRIPTION:<b>Please join us Thursday\, May 14th\, for an engaging discuss
 ion and book signing event featuring author Becky Aikman.</b>\n\nAikman wi
 ll discuss 'Spitfires: The American Women Who Flew in the Face of Danger D
 uring World War II\,' the heart-pounding true story of the daring American
  women who piloted the world’s most dangerous aircraft through the treache
 rous skies of Britain during World War II.\n\nShe’ll discuss Spitfires\, t
 ake questions\, and sign books following the talk.\n\nThe event is free\, 
 but reservations are required. Please call 516-572-4066 (Monday through Fr
 iday\, 10 a.m. to 4 p.m.) to reserve your seat.\n\nYou can bring your own 
 book or purchase a copy at the event.
DTSTART;TZID=America/New_York:20260514T190000
DTEND;TZID=America/New_York:20260514T190000
LOCATION:
SUMMARY:“Spitfires” Discussion & Book Signing with Becky Aikman
END:VEVENT
END:VCALENDAR
