BEGIN:VCALENDAR
VERSION:2.0
PRODID:-//www.cradleofaviation.org//NONSGML kigkonsult.se iCalcreator 2.30.
 10//
CALSCALE:GREGORIAN
METHOD:PUBLISH
UID:68849bb9-d1fc-4a47-8f23-bf2bc42e9a28
X-WR-CALDESC:<b>Nassau Reptile Expo at the Cradle of Aviation Museum</b>\n
 \nSaturday\, February 7th\n9:30 am - 4:00 pm \n\nAdmission includes access
  to the Cradle of Aviation Museum galleries and Nassau Reptile Expo. \n\nT
 he Expo features over 175 tables of reptile\, amphibian\, and invertebrate
  breeders and supply vendors. \n\nPlease note: Tickets are NOT available t
 hrough the Cradle of Aviation Museum. To purchase tickets\, please visit t
 he link below.\n\n<b>Please note: Museum Library passes are not valid for 
 this special event.</b>
X-WR-RELCALID:b64248a9d953a597c117145cb0d11dd3
X-WR-TIMEZONE:America/New_York
BEGIN:VTIMEZONE
TZID:America/New_York
BEGIN:STANDARD
TZNAME:EST
DTSTART:20251102T020000
TZOFFSETFROM:-0400
TZOFFSETTO:-0500
RDATE:20261101T020000
END:STANDARD
BEGIN:DAYLIGHT
TZNAME:EDT
DTSTART:20250309T020000
TZOFFSETFROM:-0500
TZOFFSETTO:-0400
RDATE:20260308T020000
RDATE:20270314T020000
END:DAYLIGHT
END:VTIMEZONE
BEGIN:VEVENT
UID:0fa9a4d0-b8b4-4b04-8018-1047aac595f6
DTSTAMP:20260424T163211Z
DESCRIPTION:<b>Nassau Reptile Expo at the Cradle of Aviation Museum</b>\n\n
 Saturday\, February 7th\n9:30 am - 4:00 pm \n\nAdmission includes access t
 o the Cradle of Aviation Museum galleries and Nassau Reptile Expo. \n\nThe
  Expo features over 175 tables of reptile\, amphibian\, and invertebrate b
 reeders and supply vendors. \n\nPlease note: Tickets are NOT available thr
 ough the Cradle of Aviation Museum. To purchase tickets\, please visit the
  link below.\n\n<b>Please note: Museum Library passes are not valid for th
 is special event.</b>
DTSTART;TZID=America/New_York:20260207T060000
DTEND;TZID=America/New_York:20260207T060001
LOCATION:
SUMMARY:Nassau Reptile Expo
END:VEVENT
END:VCALENDAR
