BEGIN:VCALENDAR
VERSION:2.0
PRODID:-//www.cradleofaviation.org//NONSGML kigkonsult.se iCalcreator 2.30.
 10//
CALSCALE:GREGORIAN
METHOD:PUBLISH
UID:e0fccbeb-66d4-4529-b332-605051a82861
X-WR-CALDESC:Join us under the Dome for Mesmerica 360: \n\n Sat January 17:
  6:00 PM | 7:15 PM | 8:30 PM\n\nEnjoy Mesmerica 360—a multi-sensory\, full
 -dome experience with 360° visuals and surround sound\, unlike anything yo
 u’ve experienced before. Created by composer James Hood\, this limited-tim
 e presentation is designed to fully immerse you under the dome.\n\nChoose 
 your date and showtime when purchasing—tickets are sold by showtime (one d
 ate + one time).\n \nRunning time is approximately 50 - 60 minutes.
X-WR-RELCALID:a1b04ab2ce6878d3ffa0ff7b4b1dda96
X-WR-TIMEZONE:America/New_York
BEGIN:VTIMEZONE
TZID:America/New_York
BEGIN:STANDARD
TZNAME:EST
DTSTART:20251102T020000
TZOFFSETFROM:-0400
TZOFFSETTO:-0500
RDATE:20261101T020000
END:STANDARD
BEGIN:DAYLIGHT
TZNAME:EDT
DTSTART:20250309T020000
TZOFFSETFROM:-0500
TZOFFSETTO:-0400
RDATE:20260308T020000
RDATE:20270314T020000
END:DAYLIGHT
END:VTIMEZONE
BEGIN:VEVENT
UID:bf3fdda4-e6ea-4d53-a451-b7304a395f3e
DTSTAMP:20260424T164710Z
DESCRIPTION:Join us under the Dome for Mesmerica 360: \n\n Sat January 17: 
 6:00 PM | 7:15 PM | 8:30 PM\n\nEnjoy Mesmerica 360—a multi-sensory\, full-
 dome experience with 360° visuals and surround sound\, unlike anything you
 ’ve experienced before. Created by composer James Hood\, this limited-time
  presentation is designed to fully immerse you under the dome.\n\nChoose y
 our date and showtime when purchasing—tickets are sold by showtime (one da
 te + one time).\n \nRunning time is approximately 50 - 60 minutes.
DTSTART;TZID=America/New_York:20260117T000000
DTEND;TZID=America/New_York:20260117T000000
LOCATION:
SUMMARY:Mesmerica 360 Planetarium Show
END:VEVENT
END:VCALENDAR
