BEGIN:VCALENDAR
VERSION:2.0
PRODID:-//www.cradleofaviation.org//NONSGML kigkonsult.se iCalcreator 2.30.
 10//
CALSCALE:GREGORIAN
METHOD:PUBLISH
UID:30db3634-4f9f-4d1a-b7a6-1a94cd4487d0
X-WR-CALDESC:<b>Make-and-Take Crafts</b>\nSat\, Dec 20 - Sun\, Jan 4 10 am 
 - 4 pm\n\nBuild and decorate a mini wooden clothespin airplane (included w
 ith museum admission)\, and customize and take home your own gingerbread h
 ouse ($5 add-on with museum admission)
X-WR-RELCALID:478e22e9a9d6e11de4e01d2c7540b379
X-WR-TIMEZONE:America/New_York
BEGIN:VTIMEZONE
TZID:America/New_York
BEGIN:STANDARD
TZNAME:EST
DTSTART:20251102T020000
TZOFFSETFROM:-0400
TZOFFSETTO:-0500
RDATE:20261101T020000
END:STANDARD
BEGIN:DAYLIGHT
TZNAME:EDT
DTSTART:20250309T020000
TZOFFSETFROM:-0500
TZOFFSETTO:-0400
RDATE:20260308T020000
RDATE:20270314T020000
END:DAYLIGHT
END:VTIMEZONE
BEGIN:VEVENT
UID:56fa6271-f120-4dfb-a561-cf5587ac0e5c
DTSTAMP:20260423T143120Z
DESCRIPTION:<b>Make-and-Take Crafts</b>\nSat\, Dec 20 - Sun\, Jan 4 10 am -
  4 pm\n\nBuild and decorate a mini wooden clothespin airplane (included wi
 th museum admission)\, and customize and take home your own gingerbread ho
 use ($5 add-on with museum admission)
DTSTART;TZID=America/New_York:20251220T100000
DTEND;TZID=America/New_York:20260104T170000
LOCATION:
SUMMARY:Make-and-Take Craft Activities
END:VEVENT
END:VCALENDAR
