BEGIN:VCALENDAR
VERSION:2.0
PRODID:-//www.cradleofaviation.org//NONSGML kigkonsult.se iCalcreator 2.30.
 10//
CALSCALE:GREGORIAN
METHOD:PUBLISH
UID:cd5ebd67-11bb-4f8c-b06b-c034161f1b74
X-WR-CALDESC:<b>Festival of Games: A Holiday Shopping & Gaming Event</b>\n
 \nCradle-Con and Long Island Retro Gaming Expo are proud to present Festiv
 al of Games – a holiday-themed extravaganza of shopping and gaming experie
 nces.\n\nJoin us on Saturday\, December 13th\, and Sunday\, December 14th\
 , from 10:00 am to 5:00 pm\, and shop a variety of local small businesses 
 for retro video games\, toys\, comics\, and collectibles\, and enjoy a sle
 w of unique retro gaming experiences. Admission includes free unlimited ga
 meplay on over 60 arcade classics\, plus dozens of retro gaming consoles a
 nd holiday-themed games.\n\n  • Tickets: $15-$65\n  • Arcade and Console G
 ames\n  • Interactive Workshops\n  • Table-top and Board Games\n  • Pop Cu
 lture Merch Vendors - Supporting local businesses in the community\n  • An
 d did we mention FREE Parking?!!\n\nTickets available through Festival of 
 Games \n\nPlease note: Library Museum Passes are not eligible for admissio
 n.\n\n<b>About Cradle Con</b>\nCradle Con: A Comic\, Collectibles\, and Po
 p Culture Con. Cradle-Con is the Cradle of Aviation Museum’s non-profit\, 
 comic\, collectible\, and pop culture convention\, built by fans\, for fan
 s. <a href='https://www.cradlecon.com/'>More details here...</a> \n\n<b>Ab
 out Long Island Retro Gaming Expo</b>\nLong Island Retro Gaming Expo (LI R
 etro): The largest gaming exhibitor in New York hosts the North East's pre
 mier retro-centric convention where gamers can experience the joy and hist
 ory of video games in an environment that encapsulates the golden eras of 
 gaming re-imagined for today's player.  Held annually every August at The 
 Cradle of Aviation\, LI Retro hosts hundreds of unique gaming experiences\
 , exclusive exhibits\, engaging panels\, live performances\, and more. <a 
 href='https://expo.liretro.com/'>More details here...</a>\n\n<b>About Long
  Island Table Top Gaming Expo</b>\nLong Island Tabletop Gaming Expo (LI Ta
 bletop) grew out of the Long Island Retro Gaming Expo to give tabletop fan
 s the space and spotlight they deserve. Now a standalone\, premier convent
 ion at the Cradle of Aviation\, LI Tabletop brings together board games\, 
 card games\, and miniatures with learn-to-play areas\, open gaming\, vendo
 rs\, and engaging panels—all in a friendly\, welcoming setting for gamers\
 , families\, and newcomers alike.\n\n
X-WR-RELCALID:e2e82d023ece748b035b343ab8431b72
X-WR-TIMEZONE:America/New_York
BEGIN:VTIMEZONE
TZID:America/New_York
BEGIN:STANDARD
TZNAME:EST
DTSTART:20251102T020000
TZOFFSETFROM:-0400
TZOFFSETTO:-0500
RDATE:20261101T020000
END:STANDARD
BEGIN:DAYLIGHT
TZNAME:EDT
DTSTART:20250309T020000
TZOFFSETFROM:-0500
TZOFFSETTO:-0400
RDATE:20260308T020000
RDATE:20270314T020000
END:DAYLIGHT
END:VTIMEZONE
BEGIN:VEVENT
UID:24086b47-0e11-4e3a-a8dd-2f1b3bb36ce7
DTSTAMP:20260424T170220Z
DESCRIPTION:<b>Festival of Games: A Holiday Shopping & Gaming Event</b>\n\n
 Cradle-Con and Long Island Retro Gaming Expo are proud to present Festival
  of Games – a holiday-themed extravaganza of shopping and gaming experienc
 es.\n\nJoin us on Saturday\, December 13th\, and Sunday\, December 14th\, 
 from 10:00 am to 5:00 pm\, and shop a variety of local small businesses fo
 r retro video games\, toys\, comics\, and collectibles\, and enjoy a slew 
 of unique retro gaming experiences. Admission includes free unlimited game
 play on over 60 arcade classics\, plus dozens of retro gaming consoles and
  holiday-themed games.\n\n  • Tickets: $15-$65\n  • Arcade and Console Gam
 es\n  • Interactive Workshops\n  • Table-top and Board Games\n  • Pop Cult
 ure Merch Vendors - Supporting local businesses in the community\n  • And 
 did we mention FREE Parking?!!\n\nTickets available through Festival of Ga
 mes \n\nPlease note: Library Museum Passes are not eligible for admission.
 \n\n<b>About Cradle Con</b>\nCradle Con: A Comic\, Collectibles\, and Pop 
 Culture Con. Cradle-Con is the Cradle of Aviation Museum’s non-profit\, co
 mic\, collectible\, and pop culture convention\, built by fans\, for fans.
  <a href='https://www.cradlecon.com/'>More details here...</a> \n\n<b>Abou
 t Long Island Retro Gaming Expo</b>\nLong Island Retro Gaming Expo (LI Ret
 ro): The largest gaming exhibitor in New York hosts the North East's premi
 er retro-centric convention where gamers can experience the joy and histor
 y of video games in an environment that encapsulates the golden eras of ga
 ming re-imagined for today's player.  Held annually every August at The Cr
 adle of Aviation\, LI Retro hosts hundreds of unique gaming experiences\, 
 exclusive exhibits\, engaging panels\, live performances\, and more. <a hr
 ef='https://expo.liretro.com/'>More details here...</a>\n\n<b>About Long I
 sland Table Top Gaming Expo</b>\nLong Island Tabletop Gaming Expo (LI Tabl
 etop) grew out of the Long Island Retro Gaming Expo to give tabletop fans 
 the space and spotlight they deserve. Now a standalone\, premier conventio
 n at the Cradle of Aviation\, LI Tabletop brings together board games\, ca
 rd games\, and miniatures with learn-to-play areas\, open gaming\, vendors
 \, and engaging panels—all in a friendly\, welcoming setting for gamers\, 
 families\, and newcomers alike.\n\n
DTSTART;TZID=America/New_York:20251213T100000
DTEND;TZID=America/New_York:20251214T100000
LOCATION:
SUMMARY:Festival of Games
END:VEVENT
END:VCALENDAR
