BEGIN:VCALENDAR
VERSION:2.0
PRODID:-//www.cradleofaviation.org//NONSGML kigkonsult.se iCalcreator 2.30.
 10//
CALSCALE:GREGORIAN
METHOD:PUBLISH
UID:e9863119-712c-4ed0-acaf-bd0920be485e
X-WR-CALDESC:<b>The 360° Immersive  Relaxation Experience</b>\n\nUnlike Any
 thing You’ve Experienced Before\nThe record-breaking adventure is here. Fr
 om the visionary mind of James Hood\, discover a seated\, multi-sensory 36
 0° experience unlike anything else. \nWith surround-soundscapes and visual
 s that envelop you in a cocoon under the dome\, you won't want to miss thi
 s limited-time spectacle\, which audiences have called 'life-changing'\, '
 breathtaking'\, and 'spectacular'.\n\nRunning time is approximately 50 - 6
 0 minutes.
X-WR-RELCALID:9adafcc957f351daf9166d63c16c15e2
X-WR-TIMEZONE:America/New_York
BEGIN:VTIMEZONE
TZID:America/New_York
BEGIN:STANDARD
TZNAME:EST
DTSTART:20241103T020000
TZOFFSETFROM:-0400
TZOFFSETTO:-0500
RDATE:20251102T020000
RDATE:20261101T020000
END:STANDARD
BEGIN:DAYLIGHT
TZNAME:EDT
DTSTART:20250309T020000
TZOFFSETFROM:-0500
TZOFFSETTO:-0400
RDATE:20260308T020000
RDATE:20270314T020000
END:DAYLIGHT
END:VTIMEZONE
BEGIN:VEVENT
UID:7f67337f-6fd8-450a-ab89-14765ae57ca1
DTSTAMP:20260424T164415Z
DESCRIPTION:<b>The 360° Immersive  Relaxation Experience</b>\n\nUnlike Anyt
 hing You’ve Experienced Before\nThe record-breaking adventure is here. Fro
 m the visionary mind of James Hood\, discover a seated\, multi-sensory 360
 ° experience unlike anything else. \nWith surround-soundscapes and visuals
  that envelop you in a cocoon under the dome\, you won't want to miss this
  limited-time spectacle\, which audiences have called 'life-changing'\, 'b
 reathtaking'\, and 'spectacular'.\n\nRunning time is approximately 50 - 60
  minutes.
DTSTART;TZID=America/New_York:20250927T180000
DTEND;TZID=America/New_York:20250927T180000
LOCATION:
SUMMARY:Mesmerica 360 Planetarium Show
END:VEVENT
END:VCALENDAR
