BEGIN:VCALENDAR
VERSION:2.0
PRODID:-//www.cradleofaviation.org//NONSGML kigkonsult.se iCalcreator 2.30.
 10//
CALSCALE:GREGORIAN
METHOD:PUBLISH
UID:be7362a5-23df-4b16-b720-d0984a8e36e3
X-WR-CALDESC:<b>Please join us on March 13th for an engaging discussion and
  book signing event featuring author\, former fighter pilot\, and retired 
 U.S. Air Force Colonel Kim 'KC' Campbell.</b>\n\nEnjoy wine and cheese at 
 7:00 p.m.\, followed by the lecture at 7:30 p.m. and book signing.\n\nTake
  flight with Colonel Kim 'KC' Campbell as she shares her extraordinary jou
 rney in 'Flying in the Face of Fear.' A decorated combat veteran and recip
 ient of the Distinguished Flying Cross for Heroism\, Campbell draws from h
 er experience flying A-10 Warthogs in combat over Iraq and Afghanistan. Th
 rough gripping personal stories and battle-tested strategies\, she reveals
  how to cultivate a wingman culture\, embrace risk\, and develop resilienc
 e in uncertainty. Her insights provide a roadmap for overcoming fear\, ada
 pting under pressure\, and charting a course toward balance and fulfillmen
 t.\n\nThe event is free\, but reservations are required. Please call 516-5
 72-4066 (Monday through Friday\, 10 a.m. to 4 p.m.) to reserve your seat.
 \n\nPre-order her book <a href='https://store.cradleofaviation.org/product
 s/flying-in-the-face-of-fear-by-kim-campbell?_pos=9&_sid=b6823b96d&_ss=r'>
 Flying in the Face of Fear</a> via our online store\; we'll have it waitin
 g for you at the event.
X-WR-RELCALID:7381a8ae33bedc8a54b36fab9d5709bb
X-WR-TIMEZONE:America/New_York
BEGIN:VTIMEZONE
TZID:America/New_York
BEGIN:STANDARD
TZNAME:EST
DTSTART:20241103T020000
TZOFFSETFROM:-0400
TZOFFSETTO:-0500
RDATE:20251102T020000
END:STANDARD
BEGIN:DAYLIGHT
TZNAME:EDT
DTSTART:20250309T020000
TZOFFSETFROM:-0500
TZOFFSETTO:-0400
RDATE:20260308T020000
END:DAYLIGHT
END:VTIMEZONE
BEGIN:VEVENT
UID:e6e6b107-f82c-4128-9eba-44074ef123f0
DTSTAMP:20260425T173139Z
DESCRIPTION:<b>Please join us on March 13th for an engaging discussion and 
 book signing event featuring author\, former fighter pilot\, and retired U
 .S. Air Force Colonel Kim 'KC' Campbell.</b>\n\nEnjoy wine and cheese at 7
 :00 p.m.\, followed by the lecture at 7:30 p.m. and book signing.\n\nTake 
 flight with Colonel Kim 'KC' Campbell as she shares her extraordinary jour
 ney in 'Flying in the Face of Fear.' A decorated combat veteran and recipi
 ent of the Distinguished Flying Cross for Heroism\, Campbell draws from he
 r experience flying A-10 Warthogs in combat over Iraq and Afghanistan. Thr
 ough gripping personal stories and battle-tested strategies\, she reveals 
 how to cultivate a wingman culture\, embrace risk\, and develop resilience
  in uncertainty. Her insights provide a roadmap for overcoming fear\, adap
 ting under pressure\, and charting a course toward balance and fulfillment
 .\n\nThe event is free\, but reservations are required. Please call 516-57
 2-4066 (Monday through Friday\, 10 a.m. to 4 p.m.) to reserve your seat.\n
 \nPre-order her book <a href='https://store.cradleofaviation.org/products/
 flying-in-the-face-of-fear-by-kim-campbell?_pos=9&_sid=b6823b96d&_ss=r'>Fl
 ying in the Face of Fear</a> via our online store\; we'll have it waiting 
 for you at the event.
DTSTART;TZID=America/New_York:20250313T190000
DTEND;TZID=America/New_York:20250313T190000
LOCATION:
SUMMARY:'Flying in the Face of Fear' Discussion & Book Signing with Kim Cam
 pbell USAF Colonel (retired)
END:VEVENT
END:VCALENDAR
