BEGIN:VCALENDAR
VERSION:2.0
PRODID:-//www.cradleofaviation.org//NONSGML kigkonsult.se iCalcreator 2.30.
 10//
CALSCALE:GREGORIAN
METHOD:PUBLISH
UID:2f6c03d4-0701-4451-aa07-d6f94ee46148
X-WR-CALDESC:<b>Join us for Barbie Day as we celebrate her 65th Birthday an
 d International Women's Day</b>\n\nActivities: 12 pm - 4 pm\n• Make & Take
  Barbie Space Helmet - recommended for ages 8-12\n• Pilot Barbie Digital E
 scape Room - recommended for ages 8-12 \n• Ken and Barbie Meet & Greet\n\n
 Families are invited to participate in a make-and-take STEM activity\, cra
 fting their own 'Astronaut Barbie' helmet. Help 'Pilot Barbie' complete he
 r pre-flight inspection in a thrilling digital escape room challenge befor
 e her cross-country solo flight! Don't forget to bring along your own Barb
 ie dolls and come dressed as a real-life Barbie character for our Barbie a
 nd Ken Meet & Greet.\n\nActivities are Free with museum admission.\n\nNews
  12 Long Island is our media sponsor for our Barbie Day Celebration.\n\nFo
 llow our Ken & Barbie on Instagram at @samsyndulla and @ready_season_one\n
 \n<b>Join us at 7:00 pm for Women's Adventure Film Tour</b> \nSeparate Adm
 ission Required\nThe Women’s Adventure Film Tour is back with its highly a
 nticipated 8th season. It features an exhilarating selection of 8 new shor
 t films that showcase the inspiring journeys of remarkable women who have 
 fearlessly pursued adventure in various fields. This year's tour promises 
 to captivate audiences with incredible stories of determination\, courage\
 , and triumph.
X-WR-RELCALID:ddd527d8f3f34a92688171f3a94fb604
X-WR-TIMEZONE:America/New_York
BEGIN:VTIMEZONE
TZID:America/New_York
BEGIN:STANDARD
TZNAME:EST
DTSTART:20231105T020000
TZOFFSETFROM:-0400
TZOFFSETTO:-0500
RDATE:20241103T020000
END:STANDARD
BEGIN:DAYLIGHT
TZNAME:EDT
DTSTART:20230312T020000
TZOFFSETFROM:-0500
TZOFFSETTO:-0400
RDATE:20240310T020000
RDATE:20250309T020000
END:DAYLIGHT
END:VTIMEZONE
BEGIN:VEVENT
UID:7817f663-9123-4374-a473-28db9cba9fd9
DTSTAMP:20260422T085804Z
DESCRIPTION:<b>Join us for Barbie Day as we celebrate her 65th Birthday and
  International Women's Day</b>\n\nActivities: 12 pm - 4 pm\n• Make & Take 
 Barbie Space Helmet - recommended for ages 8-12\n• Pilot Barbie Digital Es
 cape Room - recommended for ages 8-12 \n• Ken and Barbie Meet & Greet\n\nF
 amilies are invited to participate in a make-and-take STEM activity\, craf
 ting their own 'Astronaut Barbie' helmet. Help 'Pilot Barbie' complete her
  pre-flight inspection in a thrilling digital escape room challenge before
  her cross-country solo flight! Don't forget to bring along your own Barbi
 e dolls and come dressed as a real-life Barbie character for our Barbie an
 d Ken Meet & Greet.\n\nActivities are Free with museum admission.\n\nNews 
 12 Long Island is our media sponsor for our Barbie Day Celebration.\n\nFol
 low our Ken & Barbie on Instagram at @samsyndulla and @ready_season_one\n
 \n<b>Join us at 7:00 pm for Women's Adventure Film Tour</b> \nSeparate Adm
 ission Required\nThe Women’s Adventure Film Tour is back with its highly a
 nticipated 8th season. It features an exhilarating selection of 8 new shor
 t films that showcase the inspiring journeys of remarkable women who have 
 fearlessly pursued adventure in various fields. This year's tour promises 
 to captivate audiences with incredible stories of determination\, courage\
 , and triumph.
DTSTART;TZID=America/New_York:20240309T060000
DTEND;TZID=America/New_York:20240309T060001
LOCATION:
SUMMARY:Barbie Day - Celebrating International Women's Day
END:VEVENT
END:VCALENDAR
