BEGIN:VCALENDAR
VERSION:2.0
PRODID:-//www.cradleofaviation.org//NONSGML kigkonsult.se iCalcreator 2.30.
 10//
CALSCALE:GREGORIAN
METHOD:PUBLISH
UID:e5a206b3-1b8e-4c4b-9c2f-aa9de0b49873
X-WR-CALDESC:In celebration of International Women's Day 2024\, join us at 
 the Cradle for the <i> 2024 Women's Adventure Film Tour.</i> Experience 8 
 new short films highlighting inspiring journeys.\n\nJoin us as we celebrat
 e women achieving their adventurous goals\, inspiring audiences to embrace
  their inner strength.\n\nApproximate runtime: 90 minutes. Recommended for
  ages 11+\n\n<b>$15 advance tickets\, $20 at the door!</b>\n(Museum member
 s $10)\n\n<h3><a href='https://71248.blackbaudhosting.com/71248/tickets?ta
 b=2&txobjid=ce825098-d0f0-4272-8787-8e97b899f85f' target='_blank' rel='nor
 eferrer noopener'>BUY TICKETS NOW</a></h3>\n
X-WR-RELCALID:27c13511a90dc3a7a37dad63c1aea4da
X-WR-TIMEZONE:America/New_York
BEGIN:VTIMEZONE
TZID:America/New_York
BEGIN:STANDARD
TZNAME:EST
DTSTART:20231105T020000
TZOFFSETFROM:-0400
TZOFFSETTO:-0500
RDATE:20241103T020000
END:STANDARD
BEGIN:DAYLIGHT
TZNAME:EDT
DTSTART:20230312T020000
TZOFFSETFROM:-0500
TZOFFSETTO:-0400
RDATE:20240310T020000
RDATE:20250309T020000
END:DAYLIGHT
END:VTIMEZONE
BEGIN:VEVENT
UID:92b1c765-028c-4d0e-b86e-62468168d461
DTSTAMP:20260422T101832Z
DESCRIPTION:In celebration of International Women's Day 2024\, join us at t
 he Cradle for the <i> 2024 Women's Adventure Film Tour.</i> Experience 8 n
 ew short films highlighting inspiring journeys.\n\nJoin us as we celebrate
  women achieving their adventurous goals\, inspiring audiences to embrace 
 their inner strength.\n\nApproximate runtime: 90 minutes. Recommended for 
 ages 11+\n\n<b>$15 advance tickets\, $20 at the door!</b>\n(Museum members
  $10)\n\n<h3><a href='https://71248.blackbaudhosting.com/71248/tickets?tab
 =2&txobjid=ce825098-d0f0-4272-8787-8e97b899f85f' target='_blank' rel='nore
 ferrer noopener'>BUY TICKETS NOW</a></h3>\n
DTSTART;TZID=America/New_York:20240309T190000
DTEND;TZID=America/New_York:20240309T203000
LOCATION:
SUMMARY:2024 Women’s Adventure Film Tour
END:VEVENT
END:VCALENDAR
