BEGIN:VCALENDAR
VERSION:2.0
PRODID:-//www.cradleofaviation.org//NONSGML kigkonsult.se iCalcreator 2.30.
 10//
CALSCALE:GREGORIAN
METHOD:PUBLISH
UID:62b6b3a3-7858-4f4c-a8fe-fc2efc17ef38
X-WR-CALDESC:Celebrate National Manufacturing Day 2023\n\n Join the Cradle 
 of Aviation Museum in collaboration with local manufacturing professionals
  to commemorate and educate Long Island's manufacturing industry for colle
 ge-bound and non-college-bound students.\n\nPlanned events and topics will
  include:\n • Meet leading Long Island Manufacturers & hear about high-pay
 ing career opportunities!\n • Experience interactive exhibits showcasing c
 utting-edge technologies\, including VR control\, and drones.\n • Hear fro
 m recent grads about their manufacturing careers.\n • Schedule tours of ma
 nufacturing companies to help students visualize potential careers in the 
 industry.\n\nThis business event is FREE and open to the public. Registrat
 ion is required.\n
X-WR-RELCALID:ad16706fe408124baf5e66ee8e23ce56
X-WR-TIMEZONE:America/New_York
BEGIN:VTIMEZONE
TZID:America/New_York
BEGIN:STANDARD
TZNAME:EST
DTSTART:20221106T020000
TZOFFSETFROM:-0400
TZOFFSETTO:-0500
RDATE:20231105T020000
RDATE:20241103T020000
END:STANDARD
BEGIN:DAYLIGHT
TZNAME:EDT
DTSTART:20230312T020000
TZOFFSETFROM:-0500
TZOFFSETTO:-0400
RDATE:20240310T020000
RDATE:20250309T020000
END:DAYLIGHT
END:VTIMEZONE
BEGIN:VEVENT
UID:7652210d-9e87-45de-a643-8e69b6afa789
DTSTAMP:20260423T003922Z
DESCRIPTION:Celebrate National Manufacturing Day 2023\n\n Join the Cradle o
 f Aviation Museum in collaboration with local manufacturing professionals 
 to commemorate and educate Long Island's manufacturing industry for colleg
 e-bound and non-college-bound students.\n\nPlanned events and topics will 
 include:\n • Meet leading Long Island Manufacturers & hear about high-payi
 ng career opportunities!\n • Experience interactive exhibits showcasing cu
 tting-edge technologies\, including VR control\, and drones.\n • Hear from
  recent grads about their manufacturing careers.\n • Schedule tours of man
 ufacturing companies to help students visualize potential careers in the i
 ndustry.\n\nThis business event is FREE and open to the public. Registrati
 on is required.\n
DTSTART;TZID=America/New_York:20231011T150000
DTEND;TZID=America/New_York:20231011T180000
LOCATION:
SUMMARY:Celebrate National Manufacturing Day 2023
END:VEVENT
END:VCALENDAR
