BEGIN:VCALENDAR
VERSION:2.0
PRODID:-//www.cradleofaviation.org//NONSGML kigkonsult.se iCalcreator 2.30.
 10//
CALSCALE:GREGORIAN
METHOD:PUBLISH
UID:94bd691c-26b0-40e5-a358-509944e3a9b9
X-WR-CALDESC:Welcome to the greatest science talk on Long Island.\n\nJoin u
 s Friday\, January 27th\, and learn about the latest in our Universe at 'A
 stronomy on Tap' as scientists\, and educators Dr. Megan Bedell\, Dr. Nora
  Eisner\, Brian Levine\, and DJ Carly Sagan bring the excitement of astron
 omy and space to Long Island. Peer through high-powered telescopes provide
 d by knowledgeable members of the Amateur Astronomers Association to see r
 are celestial sights (weather dependent). And we're excited to be featurin
 g unique craft beers from Barrier Brewing\, Oceanside\, NY.  Dress for the
  theme – we want to see your astronomy fashion\, t-shirts\, jackets\, acce
 ssories\, and more!\n\nItinerary:\n\n • 6:00 pm - Explore the Space Galler
 y and Telescopes Outside (weather permitting)\n • 8:30 pm - Talks and game
 s in the Atrium\n • 9:15 pm - Talk in the planetarium\n • 10:00 pm - Prize
  giveaway and screening of Birth of Planet Earth\n • 10:45 pm - You don’t 
 have to go home but you can’t stay here.\n\nOpen to the General Public\, 2
 1 & over\n\nGeneral Admission: $25 (includes two beers) \nMuseum Members: 
 $20 (includes two beers)\nDesignated Driver: $15 (no drink tickets)\n\n<h3
 ><a href='https://71248.blackbaudhosting.com/71248/tickets?tab=2&txobjid=f
 a60bcbf-da90-4c81-b5a9-378168b30028' target='_blank' rel='noreferrer noope
 ner'>BUY TICKETS NOW</a></h3>\n\nProceeds benefit the museum's Preservatio
 n and Education Programs\n\n<b>About Astronomy on Tap</b>\nAstronomy on Ta
 p (AoT) is a network of public outreach events featuring engaging science 
 presentations often combined with music\, games\, and prizes for a fun\, i
 nteractive atmosphere.\n\n<b>About the Speakers</b>\n\nDr. Megan Bedell is
  an Associate Research Scientist at the Flatiron Institute's Center for Co
 mputational Astrophysics. She studies stars like our Sun and searches for 
 planets around them using telescopes both on the ground and in space. Dr. 
 Bedell received her B.S. in physics & astronomy from Haverford College and
  her Ph.D. in astrophysics from the University of Chicago.\n\nDr. Nora Eis
 ner is a research fellow working at the Flatiron Institute’s Center for Co
 mputational Astrophysics. She is the project manager of the popular citize
 n science project Planet Hunters TESS\, which engages over 35\,000 citizen
  scientists from around the globe in the exciting task of identifying plan
 ets beyond our own Solar System. Her work focuses on studying the unique p
 lanets and stellar systems found via this citizen science project\, which 
 in turn can help us understand our place in the Universe. Dr. Eisner compl
 eted her Masters degree in Physics and Astrophysics at the University of S
 heffield and her PhD in Astrophysics at the University of Oxford.\n\nBrian
  Levine is an astronomy educator\, and education administrator\, and long-
 time producer and host of NYC Astronomy on Tap events.  He received a Mast
 er’s degree in “Free-Choice Learning” Science Education\, and has worked a
 t the American Museum of Natural History teaching in and managing several 
 teen programs.  A lifelong Brooklynite and avid Phish fan\, he is also a b
 oard member on several nonprofits including the NYC Museum Educators Round
 table\, and has worked with many museums\, informal education institutions
 \, and leisure-based science programs across the city and country.\n\nDJ C
 arly Sagan has been organizing and hosting Astronomy on Tap in NYC since 2
 013\, including events at the Intrepid Air\, Sea\, and Space Museum Comple
 x\, New York Public Library\, World Science Festival\, and more and repres
 ents AoT HQ at other 'satellite' locations around the world. She is often 
 confused for mild-mannered astronomy professor Emily Rice\, though she doe
 sn't see the resemblance. Maybe she needs new glasses.\n\n<b>Amateur Astro
 nomers Association of NY</b>\nThe Amateur Astronomers Association of New Y
 ork is a not-for-profit organization started in 1927 to promote the study 
 of astronomy\, emphasizing its cultural and inspirational value.\n\n<b>Abo
 ut Barrier Brewing</b>\nEstablished in 2009 in Oceanside NY\, Barrier Brew
 ing is Long Island's first craft brewery. \n\nSelections available at the 
 event will include:\n\nKölsch - Clean\, low floral\, and winy aroma. Soft 
 and a little sweet. Medium-light body.\n\nKing Premium Lager - Deliciously
  hopped with all Noble hops. Clean\, Crisp\, and as easy drinking as they 
 come... the people's beer!\n\nMoney IPA - Barrier Money Ipa from Barrier B
 rewing Co. is an India Pale Ale IPA style beer\, medium amber in color\, a
 nd more than moderately hoppy.\n\nBarrier Cryomax Cryo Hops lend an intens
 e hop flavor and aroma. The perfect balance of juicy citrus and pine notes
  will keep you warm throughout the cold winter months!\n\nLearn more at <a
  href='https://barrierbrewing.com/' target='_blank' rel='noreferrer noopen
 er'>BarrierBrewing.com</a>\n
X-WR-RELCALID:bba8da1aa41c2a0256d7bf1adb3437f2
X-WR-TIMEZONE:America/New_York
BEGIN:VTIMEZONE
TZID:America/New_York
BEGIN:STANDARD
TZNAME:EST
DTSTART:20221106T020000
TZOFFSETFROM:-0400
TZOFFSETTO:-0500
RDATE:20231105T020000
END:STANDARD
BEGIN:DAYLIGHT
TZNAME:EDT
DTSTART:20220313T020000
TZOFFSETFROM:-0500
TZOFFSETTO:-0400
RDATE:20230312T020000
RDATE:20240310T020000
END:DAYLIGHT
END:VTIMEZONE
BEGIN:VEVENT
UID:1f2c9514-260d-4ce7-9a2d-55187c7b7000
DTSTAMP:20260423T201323Z
DESCRIPTION:Welcome to the greatest science talk on Long Island.\n\nJoin us
  Friday\, January 27th\, and learn about the latest in our Universe at 'As
 tronomy on Tap' as scientists\, and educators Dr. Megan Bedell\, Dr. Nora 
 Eisner\, Brian Levine\, and DJ Carly Sagan bring the excitement of astrono
 my and space to Long Island. Peer through high-powered telescopes provided
  by knowledgeable members of the Amateur Astronomers Association to see ra
 re celestial sights (weather dependent). And we're excited to be featuring
  unique craft beers from Barrier Brewing\, Oceanside\, NY.  Dress for the 
 theme – we want to see your astronomy fashion\, t-shirts\, jackets\, acces
 sories\, and more!\n\nItinerary:\n\n • 6:00 pm - Explore the Space Gallery
  and Telescopes Outside (weather permitting)\n • 8:30 pm - Talks and games
  in the Atrium\n • 9:15 pm - Talk in the planetarium\n • 10:00 pm - Prize 
 giveaway and screening of Birth of Planet Earth\n • 10:45 pm - You don’t h
 ave to go home but you can’t stay here.\n\nOpen to the General Public\, 21
  & over\n\nGeneral Admission: $25 (includes two beers) \nMuseum Members: $
 20 (includes two beers)\nDesignated Driver: $15 (no drink tickets)\n\n<h3>
 <a href='https://71248.blackbaudhosting.com/71248/tickets?tab=2&txobjid=fa
 60bcbf-da90-4c81-b5a9-378168b30028' target='_blank' rel='noreferrer noopen
 er'>BUY TICKETS NOW</a></h3>\n\nProceeds benefit the museum's Preservation
  and Education Programs\n\n<b>About Astronomy on Tap</b>\nAstronomy on Tap
  (AoT) is a network of public outreach events featuring engaging science p
 resentations often combined with music\, games\, and prizes for a fun\, in
 teractive atmosphere.\n\n<b>About the Speakers</b>\n\nDr. Megan Bedell is 
 an Associate Research Scientist at the Flatiron Institute's Center for Com
 putational Astrophysics. She studies stars like our Sun and searches for p
 lanets around them using telescopes both on the ground and in space. Dr. B
 edell received her B.S. in physics & astronomy from Haverford College and 
 her Ph.D. in astrophysics from the University of Chicago.\n\nDr. Nora Eisn
 er is a research fellow working at the Flatiron Institute’s Center for Com
 putational Astrophysics. She is the project manager of the popular citizen
  science project Planet Hunters TESS\, which engages over 35\,000 citizen 
 scientists from around the globe in the exciting task of identifying plane
 ts beyond our own Solar System. Her work focuses on studying the unique pl
 anets and stellar systems found via this citizen science project\, which i
 n turn can help us understand our place in the Universe. Dr. Eisner comple
 ted her Masters degree in Physics and Astrophysics at the University of Sh
 effield and her PhD in Astrophysics at the University of Oxford.\n\nBrian 
 Levine is an astronomy educator\, and education administrator\, and long-t
 ime producer and host of NYC Astronomy on Tap events.  He received a Maste
 r’s degree in “Free-Choice Learning” Science Education\, and has worked at
  the American Museum of Natural History teaching in and managing several t
 een programs.  A lifelong Brooklynite and avid Phish fan\, he is also a bo
 ard member on several nonprofits including the NYC Museum Educators Roundt
 able\, and has worked with many museums\, informal education institutions\
 , and leisure-based science programs across the city and country.\n\nDJ Ca
 rly Sagan has been organizing and hosting Astronomy on Tap in NYC since 20
 13\, including events at the Intrepid Air\, Sea\, and Space Museum Complex
 \, New York Public Library\, World Science Festival\, and more and represe
 nts AoT HQ at other 'satellite' locations around the world. She is often c
 onfused for mild-mannered astronomy professor Emily Rice\, though she does
 n't see the resemblance. Maybe she needs new glasses.\n\n<b>Amateur Astron
 omers Association of NY</b>\nThe Amateur Astronomers Association of New Yo
 rk is a not-for-profit organization started in 1927 to promote the study o
 f astronomy\, emphasizing its cultural and inspirational value.\n\n<b>Abou
 t Barrier Brewing</b>\nEstablished in 2009 in Oceanside NY\, Barrier Brewi
 ng is Long Island's first craft brewery. \n\nSelections available at the e
 vent will include:\n\nKölsch - Clean\, low floral\, and winy aroma. Soft a
 nd a little sweet. Medium-light body.\n\nKing Premium Lager - Deliciously 
 hopped with all Noble hops. Clean\, Crisp\, and as easy drinking as they c
 ome... the people's beer!\n\nMoney IPA - Barrier Money Ipa from Barrier Br
 ewing Co. is an India Pale Ale IPA style beer\, medium amber in color\, an
 d more than moderately hoppy.\n\nBarrier Cryomax Cryo Hops lend an intense
  hop flavor and aroma. The perfect balance of juicy citrus and pine notes 
 will keep you warm throughout the cold winter months!\n\nLearn more at <a 
 href='https://barrierbrewing.com/' target='_blank' rel='noreferrer noopene
 r'>BarrierBrewing.com</a>\n
DTSTART;TZID=America/New_York:20230127T180000
DTEND;TZID=America/New_York:20230127T223000
LOCATION:
SUMMARY:Expanding the Universe with Astronomy on Tap
END:VEVENT
END:VCALENDAR
