BEGIN:VCALENDAR
VERSION:2.0
PRODID:-//www.cradleofaviation.org//NONSGML kigkonsult.se iCalcreator 2.30.
 10//
CALSCALE:GREGORIAN
METHOD:PUBLISH
UID:ebc14851-80e1-4028-9a73-9f26fb4c8240
X-WR-CALDESC:Cradle-Con is proud to present its first annual Cradle Pop Sho
 p - your non-profit\, one-stop-shop this summer for all things pop culture
 ! \n\nMeet\, greet\, and support local artists and vendors! Shop these sma
 ll businesses for comics\, toys\, collectibles\, and unique artwork. This 
 is a great way to support small businesses at Long Island’s only nonprofit
  pop culture shopping event!\n\nProceeds support museum education and pres
 ervation programs.\n\n<h4><a href='https://www.cradleofaviation.org/plan_y
 our_visit/cradle-pop-shop.html'>Please visit our landing page for complete
  details and ticketing!</a></h4>
X-WR-RELCALID:ea1494f84fe8018b4b1ef943a223cd89
X-WR-TIMEZONE:America/New_York
BEGIN:VTIMEZONE
TZID:America/New_York
BEGIN:STANDARD
TZNAME:EST
DTSTART:20201101T020000
TZOFFSETFROM:-0400
TZOFFSETTO:-0500
RDATE:20211107T020000
RDATE:20221106T020000
END:STANDARD
BEGIN:DAYLIGHT
TZNAME:EDT
DTSTART:20210314T020000
TZOFFSETFROM:-0500
TZOFFSETTO:-0400
RDATE:20220313T020000
END:DAYLIGHT
END:VTIMEZONE
BEGIN:VEVENT
UID:a3114d21-afbc-4a67-8e8b-8d33e4bad023
DTSTAMP:20260423T164114Z
DESCRIPTION:Cradle-Con is proud to present its first annual Cradle Pop Shop
  - your non-profit\, one-stop-shop this summer for all things pop culture!
  \n\nMeet\, greet\, and support local artists and vendors! Shop these smal
 l businesses for comics\, toys\, collectibles\, and unique artwork. This i
 s a great way to support small businesses at Long Island’s only nonprofit 
 pop culture shopping event!\n\nProceeds support museum education and prese
 rvation programs.\n\n<h4><a href='https://www.cradleofaviation.org/plan_yo
 ur_visit/cradle-pop-shop.html'>Please visit our landing page for complete 
 details and ticketing!</a></h4>
DTSTART;TZID=America/New_York:20210718T000000
DTEND;TZID=America/New_York:20210718T235900
LOCATION:
SUMMARY:Cradle Pop Shop
END:VEVENT
END:VCALENDAR
