BEGIN:VCALENDAR
VERSION:2.0
PRODID:-//www.cradleofaviation.org//NONSGML kigkonsult.se iCalcreator 2.30.
 10//
CALSCALE:GREGORIAN
METHOD:PUBLISH
UID:2313e7c4-e16d-4d46-b5dc-f3d66b0f3a76
X-WR-CALDESC:\nThe Cradle of Aviation Museum is proud to host Vaughn Colleg
 e UAV Club for its first Tiny Whoop Contest on Saturday\, February 1st! \n
 \nBut what is a “tiny whoop”? Tiny whoops are micro-drones and they’re tak
 ing flight clubs by storm!  The pilot flies their drone through a series o
 f obstacles…all able to be viewed in real-time for visitors! Take photos\,
  root for your favorite whoop pilot\, and enter a raffle to win your own!
 \n\nFree with museum admission.   \n\n<h3><a href='https://71248.blackbaud
 hosting.com/71248/tickets?tab=3&txobjid=55a6b210-4fc2-464b-8248-8a3ae69de1
 96' target='_blank' rel='noreferrer noopener'>Buy Tickets Now</a></h3>
X-WR-RELCALID:65442a3c9397395ccf022853fac33e2b
X-WR-TIMEZONE:America/New_York
BEGIN:VTIMEZONE
TZID:America/New_York
BEGIN:STANDARD
TZNAME:EST
DTSTART:20191103T020000
TZOFFSETFROM:-0400
TZOFFSETTO:-0500
RDATE:20201101T020000
END:STANDARD
BEGIN:DAYLIGHT
TZNAME:EDT
DTSTART:20190310T020000
TZOFFSETFROM:-0500
TZOFFSETTO:-0400
RDATE:20200308T020000
RDATE:20210314T020000
END:DAYLIGHT
END:VTIMEZONE
BEGIN:VEVENT
UID:dc494b8c-e50d-4b98-b82b-2aad98efdbfc
DTSTAMP:20260423T094441Z
DESCRIPTION:\nThe Cradle of Aviation Museum is proud to host Vaughn College
  UAV Club for its first Tiny Whoop Contest on Saturday\, February 1st! \n
 \nBut what is a “tiny whoop”? Tiny whoops are micro-drones and they’re tak
 ing flight clubs by storm!  The pilot flies their drone through a series o
 f obstacles…all able to be viewed in real-time for visitors! Take photos\,
  root for your favorite whoop pilot\, and enter a raffle to win your own!
 \n\nFree with museum admission.   \n\n<h3><a href='https://71248.blackbaud
 hosting.com/71248/tickets?tab=3&txobjid=55a6b210-4fc2-464b-8248-8a3ae69de1
 96' target='_blank' rel='noreferrer noopener'>Buy Tickets Now</a></h3>
DTSTART;TZID=America/New_York:20200201T120000
DTEND;TZID=America/New_York:20200201T150000
LOCATION:
SUMMARY:Tiny Whoop Micro-Drone Races
END:VEVENT
END:VCALENDAR
