BEGIN:VCALENDAR
VERSION:2.0
PRODID:-//www.cradleofaviation.org//NONSGML kigkonsult.se iCalcreator 2.30.
 10//
CALSCALE:GREGORIAN
METHOD:PUBLISH
UID:36c82c03-204c-4440-ade0-0cf325fc860f
X-WR-CALDESC:<b>Sorry - we sent you to the wrong page!</b>\n\n<h3><a href='
 https://www.cradleofaviation.org/plan_your_visit/event_calendar.html/event
 /2019/12/01/the-30th-annual-cp-nassau-long-island-festival-of-trees-2019/2
 56933'>Please see the Festival of Trees info here!</a></h3>\n\n
X-WR-RELCALID:ee23dad2b8ef06c8f5440fc206219f37
X-WR-TIMEZONE:America/New_York
BEGIN:VTIMEZONE
TZID:America/New_York
BEGIN:STANDARD
TZNAME:EST
DTSTART:20191103T020000
TZOFFSETFROM:-0400
TZOFFSETTO:-0500
RDATE:20201101T020000
END:STANDARD
BEGIN:DAYLIGHT
TZNAME:EDT
DTSTART:20190310T020000
TZOFFSETFROM:-0500
TZOFFSETTO:-0400
RDATE:20200308T020000
RDATE:20210314T020000
END:DAYLIGHT
END:VTIMEZONE
BEGIN:VEVENT
UID:b378a50b-36dd-4d08-807d-19882e154148
DTSTAMP:20260423T031512Z
DESCRIPTION:<b>Sorry - we sent you to the wrong page!</b>\n\n<h3><a href='h
 ttps://www.cradleofaviation.org/plan_your_visit/event_calendar.html/event/
 2019/12/01/the-30th-annual-cp-nassau-long-island-festival-of-trees-2019/25
 6933'>Please see the Festival of Trees info here!</a></h3>\n\n
DTSTART;TZID=America/New_York:20191120T190000
DTEND;TZID=America/New_York:20191120T190000
LOCATION:
SUMMARY:Leslie Bean - Celebrating Alan Bean and the 50th Anniversary of Apo
 llo 12
END:VEVENT
END:VCALENDAR
