BEGIN:VCALENDAR
VERSION:2.0
PRODID:-//www.cradleofaviation.org//NONSGML kigkonsult.se iCalcreator 2.30.
 10//
CALSCALE:GREGORIAN
METHOD:PUBLISH
UID:e45dc5c8-ce83-42b9-9bab-09b2ca626915
X-WR-CALDESC:Transaero\, Inc. presents the\n\n17th Annual Cradle of Aviatio
 n Museum<h1>Air & Space Gala</h1>\nHonoring\n\n<h4>Lt. Gen. Thomas P. Staf
 ford</h4>Apollo 10 Commander\nSpirit of Discovery Award\n<h4>Perry K. Youn
 gwall</h4>CEO & President\, Transaero\, Inc.\nLeroy R. Grumman Award\n<h4>
 Huntley A. Lawrence</h4>Director\, Aviation Department\, Port Authority of
  New York and New Jersey\nAviation Leadership Award\n\n<b>THURSDAY\, NOVEM
 BER 14\, 2019</b>\n6:00 PM – Cocktails\, 7:30 PM – Dinner & Dancing\n\nDre
 ss: Business Attire \nTickets: $300 Per Person\n\nProceeds from the Gala h
 elp to fund our Education Programs and Preservation efforts.\n
X-WR-RELCALID:5268cbac14feb08162277ec6f1e93846
X-WR-TIMEZONE:America/New_York
BEGIN:VTIMEZONE
TZID:America/New_York
BEGIN:STANDARD
TZNAME:EST
DTSTART:20191103T020000
TZOFFSETFROM:-0400
TZOFFSETTO:-0500
RDATE:20201101T020000
END:STANDARD
BEGIN:DAYLIGHT
TZNAME:EDT
DTSTART:20190310T020000
TZOFFSETFROM:-0500
TZOFFSETTO:-0400
RDATE:20200308T020000
RDATE:20210314T020000
END:DAYLIGHT
END:VTIMEZONE
BEGIN:VEVENT
UID:175eb8b7-83a0-4178-8373-2db0e3209517
DTSTAMP:20260423T010706Z
DESCRIPTION:Transaero\, Inc. presents the\n\n17th Annual Cradle of Aviation
  Museum<h1>Air & Space Gala</h1>\nHonoring\n\n<h4>Lt. Gen. Thomas P. Staff
 ord</h4>Apollo 10 Commander\nSpirit of Discovery Award\n<h4>Perry K. Young
 wall</h4>CEO & President\, Transaero\, Inc.\nLeroy R. Grumman Award\n<h4>H
 untley A. Lawrence</h4>Director\, Aviation Department\, Port Authority of 
 New York and New Jersey\nAviation Leadership Award\n\n<b>THURSDAY\, NOVEMB
 ER 14\, 2019</b>\n6:00 PM – Cocktails\, 7:30 PM – Dinner & Dancing\n\nDres
 s: Business Attire \nTickets: $300 Per Person\n\nProceeds from the Gala he
 lp to fund our Education Programs and Preservation efforts.\n
DTSTART;TZID=America/New_York:20191114T180000
DTEND;TZID=America/New_York:20191114T180000
LOCATION:
SUMMARY:17th Annual Cradle of Aviation Museum Air and Space Gala
END:VEVENT
END:VCALENDAR
