BEGIN:VCALENDAR
VERSION:2.0
PRODID:-//www.cradleofaviation.org//NONSGML kigkonsult.se iCalcreator 2.30.
 10//
CALSCALE:GREGORIAN
METHOD:PUBLISH
UID:eabfde36-f68d-4f42-85f8-1a194b6c9e7f
X-WR-CALDESC:\nThe Reel Rock Film Tour\, one of climbing’s greatest celebra
 tions\, returns this fall with four new world premieres. In a battle for E
 l Cap’s coveted Nose speed record\, rock legends Tommy Caldwell and Alex H
 onnold go head to head with Yosemite Dirtbags Jim Reynolds and Brad Gobrig
 ht. Highball bouldering ace Nina Williams flexes her guns and tests her ne
 rves well into the no-fall zone. In rural Utah\, conservative Mormon coal 
 miners collide with an influx of out-of-town climbers — with surprising re
 sults. And two adventurous Brits\, Hazel Findlay and Maddy Cope\, pursue f
 irst ascents in wild and remote Mongolia.\n\nLimited seating - get your ti
 ckets now!\n\nAdvance Online Tickets: $15\nTickets at the Door (if availab
 le): $20\n<hr /><center><h2><a href='https://71248.blackbaudhosting.com/71
 248/tickets?tab=2&txobjid=9754847d-6e46-4879-b66b-967d4b2950c1'>Buy Ticket
 s Now</a></h2></center><hr />
X-WR-RELCALID:3a42dbe8852b5de1a6001a896729eb81
X-WR-TIMEZONE:America/New_York
BEGIN:VTIMEZONE
TZID:America/New_York
BEGIN:STANDARD
TZNAME:EST
DTSTART:20181104T020000
TZOFFSETFROM:-0400
TZOFFSETTO:-0500
RDATE:20191103T020000
RDATE:20201101T020000
END:STANDARD
BEGIN:DAYLIGHT
TZNAME:EDT
DTSTART:20190310T020000
TZOFFSETFROM:-0500
TZOFFSETTO:-0400
RDATE:20200308T020000
RDATE:20210314T020000
END:DAYLIGHT
END:VTIMEZONE
BEGIN:VEVENT
UID:32d131c8-bd48-427e-a9e7-e8c39d3bcf87
DTSTAMP:20260424T114650Z
DESCRIPTION:\nThe Reel Rock Film Tour\, one of climbing’s greatest celebrat
 ions\, returns this fall with four new world premieres. In a battle for El
  Cap’s coveted Nose speed record\, rock legends Tommy Caldwell and Alex Ho
 nnold go head to head with Yosemite Dirtbags Jim Reynolds and Brad Gobrigh
 t. Highball bouldering ace Nina Williams flexes her guns and tests her ner
 ves well into the no-fall zone. In rural Utah\, conservative Mormon coal m
 iners collide with an influx of out-of-town climbers — with surprising res
 ults. And two adventurous Brits\, Hazel Findlay and Maddy Cope\, pursue fi
 rst ascents in wild and remote Mongolia.\n\nLimited seating - get your tic
 kets now!\n\nAdvance Online Tickets: $15\nTickets at the Door (if availabl
 e): $20\n<hr /><center><h2><a href='https://71248.blackbaudhosting.com/712
 48/tickets?tab=2&txobjid=9754847d-6e46-4879-b66b-967d4b2950c1'>Buy Tickets
  Now</a></h2></center><hr />
DTSTART;TZID=America/New_York:20191102T200000
DTEND;TZID=America/New_York:20191102T200000
LOCATION:
SUMMARY:Reel Rock Film Tour - Climbing's Greatest Celebration
END:VEVENT
END:VCALENDAR
