BEGIN:VCALENDAR
VERSION:2.0
PRODID:-//www.cradleofaviation.org//NONSGML kigkonsult.se iCalcreator 2.30.
 10//
CALSCALE:GREGORIAN
METHOD:PUBLISH
UID:916ebc32-f0f7-4192-b0ca-23c483353ae0
X-WR-CALDESC:\nSUMAQ Peruvian Food Festival has become one of the most anti
 cipated culinary events of the year\, attracting food enthusiasts from all
  over the tri-state area! \n\nOver 20 food vendors\, a mixture of local an
 d award-winning chefs from Peru\, will be participating in this year’s fes
 tival. You will also have the opportunity to learn cooking techniques from
  top chefs\, such as Jose Luis Chávez\, Ezequiel Valencia and Miguel Aguil
 ar!\n​\nOur mission along with Peru’s gastronomic association\, APEGA is t
 o help disseminate Peruvian cuisine and culture in NY\, which is why we ar
 e devoted to offering the highest quality and variety of Peruvian food. \n
 \n$15 Adults\n$7 Children (2-12)\nFree Parking \n11AM-8PM Sat. & Sun.\nTic
 kets are non-refundable!\n\nAdmission Includes: \n- Festival Entrance \n- 
 Cooking Demos\n- Musical Performances\n- Cradle of Aviation Museum admissi
 on (museum hours are 9:30-5:00)\n\n<b>VIP Tickets</b>\nDelight your palate
 s with the delicious variety of Peruvian Gastronomy! SUMAQ's 2019 VIP will
  take place on August 24th and 25th starting at 12pm-6pm inside the Cradle
  of Aviation Museum. This year's International Chef of the Year Masterchef
  Mercedes Salazar Luna presents a three-course menu 'Taste like Peru!' tha
 t consists of 7 tasty dishes from different regions of Peru and traditiona
 l drinks including our famous Pisco Sour!\n\nLimited reservations\, Buy yo
 ur tickets today! $120\n\nVIP includes entrance to the outdoor festival st
 arting at 11am-8pm\, and access to the Cradle of Aviation Museum from 9:30
 am-5pm\, table service\, premium reserved VIP seating location inside the 
 museum hall and preferential seating at the live cooking demonstrations. C
 omfortable sectioned seating area near the outdoor stage.\n\nMaximum of 3 
 alcoholic drinks* Must be 21 or older to drink*\n\n<hr /><center><h2><a hr
 ef='https://71248.blackbaudhosting.com/71248/tickets?tab=2&txobjid=890c77d
 b-0cdd-44b6-b146-365cb7ac97ba' target='_blank' rel='noreferrer noopener'>B
 UY SATURDAY TICKETS</a><br /><a href='https://71248.blackbaudhosting.com/7
 1248/tickets?tab=2&txobjid=337d52f0-db95-47d9-a62c-d7a91a264d9d' target='_
 blank' rel='noreferrer noopener'>BUY SUNDAY TICKETS</a></h2></center><hr /
 >
X-WR-RELCALID:41bb7ba25fbacf1d4b7cb9bc566c7b5b
X-WR-TIMEZONE:America/New_York
BEGIN:VTIMEZONE
TZID:America/New_York
BEGIN:STANDARD
TZNAME:EST
DTSTART:20181104T020000
TZOFFSETFROM:-0400
TZOFFSETTO:-0500
RDATE:20191103T020000
RDATE:20201101T020000
END:STANDARD
BEGIN:DAYLIGHT
TZNAME:EDT
DTSTART:20190310T020000
TZOFFSETFROM:-0500
TZOFFSETTO:-0400
RDATE:20200308T020000
END:DAYLIGHT
END:VTIMEZONE
BEGIN:VEVENT
UID:4d5c79e0-3cba-42d0-adcf-7ee72f66d4a8
DTSTAMP:20260423T082909Z
DESCRIPTION:\nSUMAQ Peruvian Food Festival has become one of the most antic
 ipated culinary events of the year\, attracting food enthusiasts from all 
 over the tri-state area! \n\nOver 20 food vendors\, a mixture of local and
  award-winning chefs from Peru\, will be participating in this year’s fest
 ival. You will also have the opportunity to learn cooking techniques from 
 top chefs\, such as Jose Luis Chávez\, Ezequiel Valencia and Miguel Aguila
 r!\n​\nOur mission along with Peru’s gastronomic association\, APEGA is to
  help disseminate Peruvian cuisine and culture in NY\, which is why we are
  devoted to offering the highest quality and variety of Peruvian food. \n
 \n$15 Adults\n$7 Children (2-12)\nFree Parking \n11AM-8PM Sat. & Sun.\nTic
 kets are non-refundable!\n\nAdmission Includes: \n- Festival Entrance \n- 
 Cooking Demos\n- Musical Performances\n- Cradle of Aviation Museum admissi
 on (museum hours are 9:30-5:00)\n\n<b>VIP Tickets</b>\nDelight your palate
 s with the delicious variety of Peruvian Gastronomy! SUMAQ's 2019 VIP will
  take place on August 24th and 25th starting at 12pm-6pm inside the Cradle
  of Aviation Museum. This year's International Chef of the Year Masterchef
  Mercedes Salazar Luna presents a three-course menu 'Taste like Peru!' tha
 t consists of 7 tasty dishes from different regions of Peru and traditiona
 l drinks including our famous Pisco Sour!\n\nLimited reservations\, Buy yo
 ur tickets today! $120\n\nVIP includes entrance to the outdoor festival st
 arting at 11am-8pm\, and access to the Cradle of Aviation Museum from 9:30
 am-5pm\, table service\, premium reserved VIP seating location inside the 
 museum hall and preferential seating at the live cooking demonstrations. C
 omfortable sectioned seating area near the outdoor stage.\n\nMaximum of 3 
 alcoholic drinks* Must be 21 or older to drink*\n\n<hr /><center><h2><a hr
 ef='https://71248.blackbaudhosting.com/71248/tickets?tab=2&txobjid=890c77d
 b-0cdd-44b6-b146-365cb7ac97ba' target='_blank' rel='noreferrer noopener'>B
 UY SATURDAY TICKETS</a><br /><a href='https://71248.blackbaudhosting.com/7
 1248/tickets?tab=2&txobjid=337d52f0-db95-47d9-a62c-d7a91a264d9d' target='_
 blank' rel='noreferrer noopener'>BUY SUNDAY TICKETS</a></h2></center><hr /
 >
DTSTART;TZID=America/New_York:20190825T110000
DTEND;TZID=America/New_York:20190825T200000
LOCATION:
SUMMARY:SUMAQ Peruvian Food Festival
END:VEVENT
END:VCALENDAR
