BEGIN:VCALENDAR
VERSION:2.0
PRODID:-//www.cradleofaviation.org//NONSGML kigkonsult.se iCalcreator 2.30.
 10//
CALSCALE:GREGORIAN
METHOD:PUBLISH
UID:727dfaf4-9288-49be-a7b1-6cf1ac1f82e1
X-WR-CALDESC:\n16th Annual Cradle of Aviation Museum\n<h1>Air & Space Gala<
 /h1>\nHonoring\n\n<h4>Walter Cunningham</h4>Apollo 7 Lunar Module Pilot\nS
 pirit of Discovery Award\n<h4>Teresa Ferraro</h4>President\, East/West Ind
 ustries\, inc.\nLeroy R. Grumman Award\n<h4>Tyler Morse</h4>CEO & Managing
  Partner\, MCR Developments\nAviation Leadership Award\n\n<b>WEDNESDAY\, N
 OVEMBER 7\, 2018</b>\n6:00 PM – Cocktails\, 7:30 PM – Dinner & Dancing\n\n
 Dress: Business Attire \nTickets: $300 Per Person\n\nProceeds from the Gal
 a help to fund our Education Programs and Preservation efforts.\n
X-WR-RELCALID:b5f6e5a64160dcea7619182c48d49331
X-WR-TIMEZONE:America/New_York
BEGIN:VTIMEZONE
TZID:America/New_York
BEGIN:STANDARD
TZNAME:EST
DTSTART:20181104T020000
TZOFFSETFROM:-0400
TZOFFSETTO:-0500
RDATE:20191103T020000
END:STANDARD
BEGIN:DAYLIGHT
TZNAME:EDT
DTSTART:20180311T020000
TZOFFSETFROM:-0500
TZOFFSETTO:-0400
RDATE:20190310T020000
RDATE:20200308T020000
END:DAYLIGHT
END:VTIMEZONE
BEGIN:VEVENT
UID:419c94f2-5911-4b7b-9018-a05035dc778e
DTSTAMP:20260423T010936Z
DESCRIPTION:\n16th Annual Cradle of Aviation Museum\n<h1>Air & Space Gala</
 h1>\nHonoring\n\n<h4>Walter Cunningham</h4>Apollo 7 Lunar Module Pilot\nSp
 irit of Discovery Award\n<h4>Teresa Ferraro</h4>President\, East/West Indu
 stries\, inc.\nLeroy R. Grumman Award\n<h4>Tyler Morse</h4>CEO & Managing 
 Partner\, MCR Developments\nAviation Leadership Award\n\n<b>WEDNESDAY\, NO
 VEMBER 7\, 2018</b>\n6:00 PM – Cocktails\, 7:30 PM – Dinner & Dancing\n\nD
 ress: Business Attire \nTickets: $300 Per Person\n\nProceeds from the Gala
  help to fund our Education Programs and Preservation efforts.\n
DTSTART;TZID=America/New_York:20181107T180000
DTEND;TZID=America/New_York:20181107T180000
LOCATION:
SUMMARY:16th Annual Cradle of Aviation Museum Air and Space Gala
END:VEVENT
END:VCALENDAR
