BEGIN:VCALENDAR
VERSION:2.0
PRODID:-//www.cradleofaviation.org//NONSGML kigkonsult.se iCalcreator 2.30.
 10//
CALSCALE:GREGORIAN
METHOD:PUBLISH
UID:59f8060b-1181-43e3-be53-7fc7e62acaa7
X-WR-CALDESC:\nPresented by the Cradle of Aviation Museum and Adelphi Unive
 rsity\n\nJoin us for an evening of live music paired with scientifically a
 ccurate out of this world visuals in the Jet Blue Sky Theater Planetarium!
  \n\nStudents from Adelphi University will play a mix of originals\, cover
 s and improvised pieces to eight original movies highlighting the beauty o
 f the universe and humanity’s desire to explore it.\n\n$15 General Admissi
 on\n$12 Students and Members\n\nFor tickets\, please call Reservations (Mo
 nday-Friday\, 10-4) at 516-572-4066 or purchase at the door.
X-WR-RELCALID:57ebb4d39757dbb5f565dc1611518ca1
X-WR-TIMEZONE:America/New_York
BEGIN:VTIMEZONE
TZID:America/New_York
BEGIN:STANDARD
TZNAME:EST
DTSTART:20161106T020000
TZOFFSETFROM:-0400
TZOFFSETTO:-0500
RDATE:20171105T020000
END:STANDARD
BEGIN:DAYLIGHT
TZNAME:EDT
DTSTART:20160313T020000
TZOFFSETFROM:-0500
TZOFFSETTO:-0400
RDATE:20170312T020000
RDATE:20180311T020000
END:DAYLIGHT
END:VTIMEZONE
BEGIN:VEVENT
UID:fc20e3ea-0fac-4c2b-890e-ad703d60b77f
DTSTAMP:20260421T170159Z
DESCRIPTION:\nPresented by the Cradle of Aviation Museum and Adelphi Univer
 sity\n\nJoin us for an evening of live music paired with scientifically ac
 curate out of this world visuals in the Jet Blue Sky Theater Planetarium! 
 \n\nStudents from Adelphi University will play a mix of originals\, covers
  and improvised pieces to eight original movies highlighting the beauty of
  the universe and humanity’s desire to explore it.\n\n$15 General Admissio
 n\n$12 Students and Members\n\nFor tickets\, please call Reservations (Mon
 day-Friday\, 10-4) at 516-572-4066 or purchase at the door.
DTSTART;TZID=America/New_York:20170223T180000
DTEND;TZID=America/New_York:20170223T180000
LOCATION:
SUMMARY:Music & Astronomy Night
END:VEVENT
END:VCALENDAR
