BEGIN:VCALENDAR
VERSION:2.0
PRODID:-//www.cradleofaviation.org//NONSGML kigkonsult.se iCalcreator 2.30.
 10//
CALSCALE:GREGORIAN
METHOD:PUBLISH
UID:34fc15a6-1e0a-4531-82a5-eb937319d006
X-WR-CALDESC:The Cradle of Aviation Museum and the Long Island Composers Al
 liance present\n\n<b>Celestial STEAM Music and Astronomy Night</b>\n\nJoin
  us for a night of Music and Science\; original compositions inspired by a
 stronomy will be played live in the JetBlue Sky Theater Planetarium.\n\nCe
 lestial STEAM is an evening of art\, astronomy and music. The evening begi
 ns at 6:30pm\, with an art show of local student artists who have entered 
 into the Celestial STEAM Competition.  At 7:30pm everyone will head into t
 he Planetarium for original compositions inspired by astronomy and played 
 live by the Long Island Composers Alliance.  There are 7 pieces in total a
 nd before each piece there will be an explanation about the imagery accomp
 anying it.  Before the last piece is played the winners of the Celestial S
 TEAM Competition will be announced and the art work shown on the planetari
 um dome.  The last piece of the night will be about the Hubble telescope w
 ith the music largely improvised on a moog synthesizer.\n\nTickets may be 
 purchased in person at the box office or online via our <a href='http://pu
 rchase.tickets.com/buy/TicketPurchase?organ_val=3696&schedule=list'>ticket
 s.com</a> page\n\nTickets:\n$20/Adult ($15 for members - purchase at box o
 ffice)\n$12/Children (2-10)\, ($8 for members - purchase at box office)
X-WR-RELCALID:8cdefcf94274df063d5a4a587315597c
X-WR-TIMEZONE:America/New_York
BEGIN:VTIMEZONE
TZID:America/New_York
BEGIN:STANDARD
TZNAME:EST
DTSTART:20141102T020000
TZOFFSETFROM:-0400
TZOFFSETTO:-0500
RDATE:20151101T020000
RDATE:20161106T020000
END:STANDARD
BEGIN:DAYLIGHT
TZNAME:EDT
DTSTART:20150308T020000
TZOFFSETFROM:-0500
TZOFFSETTO:-0400
RDATE:20160313T020000
RDATE:20170312T020000
END:DAYLIGHT
END:VTIMEZONE
BEGIN:VEVENT
UID:b28a1859-c378-4e3a-b18f-1bf2a67cbb1b
DTSTAMP:20260422T140925Z
DESCRIPTION:The Cradle of Aviation Museum and the Long Island Composers All
 iance present\n\n<b>Celestial STEAM Music and Astronomy Night</b>\n\nJoin 
 us for a night of Music and Science\; original compositions inspired by as
 tronomy will be played live in the JetBlue Sky Theater Planetarium.\n\nCel
 estial STEAM is an evening of art\, astronomy and music. The evening begin
 s at 6:30pm\, with an art show of local student artists who have entered i
 nto the Celestial STEAM Competition.  At 7:30pm everyone will head into th
 e Planetarium for original compositions inspired by astronomy and played l
 ive by the Long Island Composers Alliance.  There are 7 pieces in total an
 d before each piece there will be an explanation about the imagery accompa
 nying it.  Before the last piece is played the winners of the Celestial ST
 EAM Competition will be announced and the art work shown on the planetariu
 m dome.  The last piece of the night will be about the Hubble telescope wi
 th the music largely improvised on a moog synthesizer.\n\nTickets may be p
 urchased in person at the box office or online via our <a href='http://pur
 chase.tickets.com/buy/TicketPurchase?organ_val=3696&schedule=list'>tickets
 .com</a> page\n\nTickets:\n$20/Adult ($15 for members - purchase at box of
 fice)\n$12/Children (2-10)\, ($8 for members - purchase at box office)
DTSTART;TZID=America/New_York:20151003T183000
DTEND;TZID=America/New_York:20151003T210000
LOCATION:
SUMMARY:Celestial STEAM Music and Astronomy Night
END:VEVENT
END:VCALENDAR
