BEGIN:VCALENDAR
VERSION:2.0
PRODID:-//www.cradleofaviation.org//NONSGML kigkonsult.se iCalcreator 2.30.
 10//
CALSCALE:GREGORIAN
METHOD:PUBLISH
UID:3fb22cef-65fa-400f-8920-5ab4b4cb1aa6
X-WR-CALDESC:\nThe Cradle of Aviation Museum’s new exhibit\, Aviators\, Poe
 ts and Dreamers asks the question\, “Why do we fly?” and finds its answers
  in the poems and poetic writings of some of the world’s famous aviators.
 \n\nThe exhibit will feature photographs of well-known aviators such as Ch
 arles and Anne Lindbergh\, Antoine de Saint-Exupéry and Amelia Earhart as 
 well as others like Bessie Coleman\, John Gillespie Magee\, Jr.\, and Bery
 l Markham combined with their beautiful prose. Visitors will be able to se
 e how some of the world’s greatest aviators were inspired by their travels
  through the sky and in some cases into space.\n\n“You’ll be immersed in t
 he lore\, history and poetry of aviators from the early days of flight to 
 the space age\,” said Andrew Parton\, Executive Director of the Cradle of 
 Aviation Museum. The exhibit will also include a poetry station where youn
 ger poets can try their hand at a few lines of verse\, which can be put on
  display as part of the exhibit or taken home.\n\nThis new exhibit is free
  with museum admission and will be on display from July 18th through Labor
  Day. The exhibit will be made available to libraries across Long Island a
 s the Cradle’s first traveling exhibit. You can follow the exhibit’s life 
 on social media via hashtag #AviatorsPoetsDreamers.\n
X-WR-RELCALID:41a490d2358d3c9b4dbc4d5d5f3104c2
X-WR-TIMEZONE:America/New_York
BEGIN:VTIMEZONE
TZID:America/New_York
BEGIN:STANDARD
TZNAME:EST
DTSTART:20141102T020000
TZOFFSETFROM:-0400
TZOFFSETTO:-0500
RDATE:20151101T020000
RDATE:20161106T020000
END:STANDARD
BEGIN:DAYLIGHT
TZNAME:EDT
DTSTART:20150308T020000
TZOFFSETFROM:-0500
TZOFFSETTO:-0400
RDATE:20160313T020000
END:DAYLIGHT
END:VTIMEZONE
BEGIN:VEVENT
UID:57d7f25d-e4d0-44d6-a383-57c9a20ec1c9
DTSTAMP:20260423T232104Z
DESCRIPTION:\nThe Cradle of Aviation Museum’s new exhibit\, Aviators\, Poet
 s and Dreamers asks the question\, “Why do we fly?” and finds its answers 
 in the poems and poetic writings of some of the world’s famous aviators.\n
 \nThe exhibit will feature photographs of well-known aviators such as Char
 les and Anne Lindbergh\, Antoine de Saint-Exupéry and Amelia Earhart as we
 ll as others like Bessie Coleman\, John Gillespie Magee\, Jr.\, and Beryl 
 Markham combined with their beautiful prose. Visitors will be able to see 
 how some of the world’s greatest aviators were inspired by their travels t
 hrough the sky and in some cases into space.\n\n“You’ll be immersed in the
  lore\, history and poetry of aviators from the early days of flight to th
 e space age\,” said Andrew Parton\, Executive Director of the Cradle of Av
 iation Museum. The exhibit will also include a poetry station where younge
 r poets can try their hand at a few lines of verse\, which can be put on d
 isplay as part of the exhibit or taken home.\n\nThis new exhibit is free w
 ith museum admission and will be on display from July 18th through Labor D
 ay. The exhibit will be made available to libraries across Long Island as 
 the Cradle’s first traveling exhibit. You can follow the exhibit’s life on
  social media via hashtag #AviatorsPoetsDreamers.\n
DTSTART;TZID=America/New_York:20150907T000000
DTEND;TZID=America/New_York:20150907T235900
LOCATION:
SUMMARY:Aviators\, Poets and Dreamers
END:VEVENT
END:VCALENDAR
