BEGIN:VCALENDAR
VERSION:2.0
PRODID:-//www.cradleofaviation.org//NONSGML kigkonsult.se iCalcreator 2.30.
 10//
CALSCALE:GREGORIAN
METHOD:PUBLISH
UID:e5804256-efea-4647-831e-5e905f7916f8
X-WR-CALDESC:<b><a href='http://purchase.tickets.com/buy/TicketPurchase?org
 an_val=3696&schedule=list'>BUY TICKETS NOW</a></b>\n\nShow Hours:\nFriday 
 2pm-11pm\, Saturday 12pm-11pm\, Sunday 12pm-7pm\n\nAdmission:\nAdults $22\
 , Children (2-12) $12\n\nDive deep into the history of tattooing as well a
 s our air born ancestors…\n\nUnited Ink is unlike any other tattoo convent
 ion you’ve ever seen before.  Completely open to the public\, the conventi
 on is the perfect day for the whole family with entertainment like magicia
 ns and suspension shows\, music\, games\, contests\, live tattooing and pi
 ercing\, seminars\, an artist lounge\, art exhibits\, and so much more it’
 s hard to list it all!\n\nAt the United Ink convention\, you can watch the
  world’s best artists pierce and tattoo\, and if you’re in the market for 
 new ink or piercings\, this is the place to be.  Why not let one of the gl
 obe’s most talented artist use your body as their newest canvas?\n\nAnd th
 ere’s plenty for the kids to do\, too.  United Ink will offer face paintin
 g (baby’s first tattoo!)\, temporary tattoos\, coloring contests\, flash a
 rt contests and even more for the little tattoo fans in your life.\n\nTick
 ets will be available online soon – Please contact Jackie@newyorktattoosho
 w.com for more details. – Tickets will also be available at the Cradle Box
  Office on September 11th. \n\nThose interested in sponsorship opportuniti
 es can contact our offices:\nBy e-mail: jackie@newyorktattooshow.com\nBy p
 hone: 631.584.3858\nFor Celebrity and Media Inquiries – Contact Jackie@new
 yorktattooshow.com\nFor information on booking with the Expo -Celebrities/
 Bands/Entertainers -\nPlease contact Jackie@newyorktattooshow.com
X-WR-RELCALID:07a4d16e207c432520176bb16f7b8fa8
X-WR-TIMEZONE:America/New_York
BEGIN:VTIMEZONE
TZID:America/New_York
BEGIN:STANDARD
TZNAME:EST
DTSTART:20131103T020000
TZOFFSETFROM:-0400
TZOFFSETTO:-0500
RDATE:20141102T020000
RDATE:20151101T020000
END:STANDARD
BEGIN:DAYLIGHT
TZNAME:EDT
DTSTART:20140309T020000
TZOFFSETFROM:-0500
TZOFFSETTO:-0400
RDATE:20150308T020000
RDATE:20160313T020000
END:DAYLIGHT
END:VTIMEZONE
BEGIN:VEVENT
UID:01a36ca3-0d4a-47b7-8fa3-0455871b1a4e
DTSTAMP:20260422T055400Z
DESCRIPTION:<b><a href='http://purchase.tickets.com/buy/TicketPurchase?orga
 n_val=3696&schedule=list'>BUY TICKETS NOW</a></b>\n\nShow Hours:\nFriday 2
 pm-11pm\, Saturday 12pm-11pm\, Sunday 12pm-7pm\n\nAdmission:\nAdults $22\,
  Children (2-12) $12\n\nDive deep into the history of tattooing as well as
  our air born ancestors…\n\nUnited Ink is unlike any other tattoo conventi
 on you’ve ever seen before.  Completely open to the public\, the conventio
 n is the perfect day for the whole family with entertainment like magician
 s and suspension shows\, music\, games\, contests\, live tattooing and pie
 rcing\, seminars\, an artist lounge\, art exhibits\, and so much more it’s
  hard to list it all!\n\nAt the United Ink convention\, you can watch the 
 world’s best artists pierce and tattoo\, and if you’re in the market for n
 ew ink or piercings\, this is the place to be.  Why not let one of the glo
 be’s most talented artist use your body as their newest canvas?\n\nAnd the
 re’s plenty for the kids to do\, too.  United Ink will offer face painting
  (baby’s first tattoo!)\, temporary tattoos\, coloring contests\, flash ar
 t contests and even more for the little tattoo fans in your life.\n\nTicke
 ts will be available online soon – Please contact Jackie@newyorktattooshow
 .com for more details. – Tickets will also be available at the Cradle Box 
 Office on September 11th. \n\nThose interested in sponsorship opportunitie
 s can contact our offices:\nBy e-mail: jackie@newyorktattooshow.com\nBy ph
 one: 631.584.3858\nFor Celebrity and Media Inquiries – Contact Jackie@newy
 orktattooshow.com\nFor information on booking with the Expo -Celebrities/B
 ands/Entertainers -\nPlease contact Jackie@newyorktattooshow.com
DTSTART;TZID=America/New_York:20140914T000000
DTEND;TZID=America/New_York:20140914T235900
LOCATION:
SUMMARY:United Ink Flight 914 New York Tattoo and Arts Show
END:VEVENT
END:VCALENDAR
