BEGIN:VCALENDAR
VERSION:2.0
PRODID:-//www.cradleofaviation.org//NONSGML kigkonsult.se iCalcreator 2.30.
 10//
CALSCALE:GREGORIAN
METHOD:PUBLISH
UID:0266fc86-bc28-40c0-8617-803568209165
X-WR-CALDESC:Portledge School\, the Cradle of Aviation Museum\, and Portled
 ge Summer Adventures\, are proud to co-sponsor the third recycled sculptur
 e contest that combines art with the theme of transportation.\n\nThe goal 
 is to create a sculpture based on a transportation theme (by air\, land\, 
 and sea) that will be judged on the basis of its aesthetic value as well a
 s the creative use of recyclable materials. Prizes will be awarded in each
  category. Your child can participate in the following eligible grade leve
 ls: PK-1\, 2-3\, or 4-6.\n\nAll entries will be exhibited and winners anno
 unced during an award reception to be held at Portledge School on Saturday
 \, April 13. Following the art reception\, there will be hands-on science 
 and arts & crafts stations organized by the Cradle of Aviation and Portled
 ge Summer Adventures.\n\nAward winning sculptures will be transported to t
 he Cradle of Aviation Museum for a mini exhibition from April 15 – April 2
 0.\n\nImportant Dates:\nRegister by Friday\, March 29 (rules and registrat
 ion via the link below)\nDeliver sculptures to the Portledge School by Thu
 rsday\, April 11 or Friday\, April 12.\nAward reception on Saturday\, Apri
 l 13\nWinning sculptures on display at the Cradle from April 15-20\n
X-WR-RELCALID:d311473c934ac504387367019879d7b3
X-WR-TIMEZONE:America/New_York
BEGIN:VTIMEZONE
TZID:America/New_York
BEGIN:STANDARD
TZNAME:EST
DTSTART:20121104T020000
TZOFFSETFROM:-0400
TZOFFSETTO:-0500
RDATE:20131103T020000
END:STANDARD
BEGIN:DAYLIGHT
TZNAME:EDT
DTSTART:20130310T020000
TZOFFSETFROM:-0500
TZOFFSETTO:-0400
RDATE:20140309T020000
END:DAYLIGHT
END:VTIMEZONE
BEGIN:VEVENT
UID:5efe030b-6839-44be-8bff-981327c719dd
DTSTAMP:20260424T095450Z
DESCRIPTION:Portledge School\, the Cradle of Aviation Museum\, and Portledg
 e Summer Adventures\, are proud to co-sponsor the third recycled sculpture
  contest that combines art with the theme of transportation.\n\nThe goal i
 s to create a sculpture based on a transportation theme (by air\, land\, a
 nd sea) that will be judged on the basis of its aesthetic value as well as
  the creative use of recyclable materials. Prizes will be awarded in each 
 category. Your child can participate in the following eligible grade level
 s: PK-1\, 2-3\, or 4-6.\n\nAll entries will be exhibited and winners annou
 nced during an award reception to be held at Portledge School on Saturday\
 , April 13. Following the art reception\, there will be hands-on science a
 nd arts & crafts stations organized by the Cradle of Aviation and Portledg
 e Summer Adventures.\n\nAward winning sculptures will be transported to th
 e Cradle of Aviation Museum for a mini exhibition from April 15 – April 20
 .\n\nImportant Dates:\nRegister by Friday\, March 29 (rules and registrati
 on via the link below)\nDeliver sculptures to the Portledge School by Thur
 sday\, April 11 or Friday\, April 12.\nAward reception on Saturday\, April
  13\nWinning sculptures on display at the Cradle from April 15-20\n
DTSTART;TZID=America/New_York:20130329T000000
DTEND;TZID=America/New_York:20130329T235900
LOCATION:
SUMMARY:Create Something Great - Recycled Sculpture Contest
END:VEVENT
END:VCALENDAR
