BEGIN:VCALENDAR
VERSION:2.0
PRODID:-//www.cradleofaviation.org//NONSGML kigkonsult.se iCalcreator 2.30.
 10//
CALSCALE:GREGORIAN
METHOD:PUBLISH
UID:fc065fb5-d6f3-42a7-a3ad-d5dfe4f9673b
X-WR-CALDESC:Explore the night sky with your favorite friends from Sesame S
 treet in One World\, One Sky: Big Bird's Adventure. Follow along with Big 
 Bird\, Elmo and their friend from China\, Hu Hu Zhu\, as they take you on 
 a journey of discovery to learn about the Big Dipper\, the North Star\, th
 e Sun\, and the Moon. \n\nRunning time\, 25 minutes.
X-WR-RELCALID:8a4f6a9581287bd916782059963a94c6
X-WR-TIMEZONE:America/New_York
BEGIN:VTIMEZONE
TZID:America/New_York
BEGIN:STANDARD
TZNAME:EST
DTSTART:20251102T020000
TZOFFSETFROM:-0400
TZOFFSETTO:-0500
RDATE:20261101T020000
END:STANDARD
BEGIN:DAYLIGHT
TZNAME:EDT
DTSTART:20260308T020000
TZOFFSETFROM:-0500
TZOFFSETTO:-0400
RDATE:20270314T020000
END:DAYLIGHT
END:VTIMEZONE
BEGIN:VEVENT
UID:4a0ffd9d-4506-4a9c-9376-45dacc0f42ce
DTSTAMP:20260423T055827Z
DESCRIPTION:Explore the night sky with your favorite friends from Sesame St
 reet in One World\, One Sky: Big Bird's Adventure. Follow along with Big B
 ird\, Elmo and their friend from China\, Hu Hu Zhu\, as they take you on a
  journey of discovery to learn about the Big Dipper\, the North Star\, the
  Sun\, and the Moon. \n\nRunning time\, 25 minutes.
DTSTART;TZID=America/New_York:20260502T110000
DTEND;TZID=America/New_York:20260502T110000
LOCATION:
SUMMARY:One World One Sky: Big Bird's Adventure
END:VEVENT
END:VCALENDAR
