BEGIN:VCALENDAR
VERSION:2.0
PRODID:-//www.cradleofaviation.org//NONSGML kigkonsult.se iCalcreator 2.30.
 10//
CALSCALE:GREGORIAN
METHOD:PUBLISH
UID:0e214b25-9835-4542-b938-f28d3492f95d
X-WR-CALDESC:<b>Junior Jetsetters</b>\nThe night sky has long inspired curi
 osity about what lies beyond Earth. Visitors explore constellations\, hear
  stories\, and practice being an astronaut while learning basic astronomy 
 vocabulary with a museum educator\, followed by a 30-minute movie. Run tim
 e approximately 50 minutes.
X-WR-RELCALID:4c3453a288bba6d5e4d22efbb14a946a
X-WR-TIMEZONE:America/New_York
BEGIN:VTIMEZONE
TZID:America/New_York
BEGIN:STANDARD
TZNAME:EST
DTSTART:20251102T020000
TZOFFSETFROM:-0400
TZOFFSETTO:-0500
RDATE:20261101T020000
END:STANDARD
BEGIN:DAYLIGHT
TZNAME:EDT
DTSTART:20260308T020000
TZOFFSETFROM:-0500
TZOFFSETTO:-0400
RDATE:20270314T020000
END:DAYLIGHT
END:VTIMEZONE
BEGIN:VEVENT
UID:480aaa51-cc32-4fab-90a2-2e0fc828ddae
DTSTAMP:20260423T041406Z
DESCRIPTION:<b>Junior Jetsetters</b>\nThe night sky has long inspired curio
 sity about what lies beyond Earth. Visitors explore constellations\, hear 
 stories\, and practice being an astronaut while learning basic astronomy v
 ocabulary with a museum educator\, followed by a 30-minute movie. Run time
  approximately 50 minutes.
DTSTART;TZID=America/New_York:20260501T110000
DTEND;TZID=America/New_York:20260501T110000
LOCATION:
SUMMARY:Junior Jetsetters
END:VEVENT
END:VCALENDAR
