BEGIN:VCALENDAR
VERSION:2.0
PRODID:-//www.cradleofaviation.org//NONSGML kigkonsult.se iCalcreator 2.30.
 10//
CALSCALE:GREGORIAN
METHOD:PUBLISH
UID:e68fb1fb-d826-4610-9bc5-5bd7a9493169
X-WR-CALDESC:Space Labs are live\, interactive shows in the Planetarium. Ea
 ch session features two unique 20-minute programs presented by local space
  enthusiasts\, including astronomers\, educators\, and other experts passi
 onate about space science.\n\nRunning time: 40 minutes\n \n
X-WR-RELCALID:fb99336063f0b1963c6e62b4df645af3
X-WR-TIMEZONE:America/New_York
BEGIN:VTIMEZONE
TZID:America/New_York
BEGIN:STANDARD
TZNAME:EST
DTSTART:20251102T020000
TZOFFSETFROM:-0400
TZOFFSETTO:-0500
RDATE:20261101T020000
END:STANDARD
BEGIN:DAYLIGHT
TZNAME:EDT
DTSTART:20260308T020000
TZOFFSETFROM:-0500
TZOFFSETTO:-0400
RDATE:20270314T020000
END:DAYLIGHT
END:VTIMEZONE
BEGIN:VEVENT
UID:a016c77e-36e3-4b4b-bdff-9720340c3851
DTSTAMP:20260423T150913Z
DESCRIPTION:Space Labs are live\, interactive shows in the Planetarium. Eac
 h session features two unique 20-minute programs presented by local space 
 enthusiasts\, including astronomers\, educators\, and other experts passio
 nate about space science.\n\nRunning time: 40 minutes\n \n
DTSTART;TZID=America/New_York:20260406T120000
DTEND;TZID=America/New_York:20260406T120000
LOCATION:
SUMMARY:Space Lab
END:VEVENT
END:VCALENDAR
