BEGIN:VCALENDAR
VERSION:2.0
PRODID:-//www.cradleofaviation.org//NONSGML kigkonsult.se iCalcreator 2.30.
 10//
CALSCALE:GREGORIAN
METHOD:PUBLISH
UID:e4741517-e1db-4a42-aafe-174510706cde
X-WR-CALDESC:The museum and theater is closed on Mondays during the school 
 year. \n\nWe are however\, open on Mondays that fall on holidays and schoo
 l breaks.\n\nAND\n\nWe are open on Mondays for school groups (group minimu
 ms apply).
X-WR-RELCALID:95bdd84ff3039f38f9b6295b3c36997c
X-WR-TIMEZONE:America/New_York
BEGIN:VTIMEZONE
TZID:America/New_York
BEGIN:STANDARD
TZNAME:EST
DTSTART:20161106T020000
TZOFFSETFROM:-0400
TZOFFSETTO:-0500
RDATE:20171105T020000
END:STANDARD
BEGIN:DAYLIGHT
TZNAME:EDT
DTSTART:20170312T020000
TZOFFSETFROM:-0500
TZOFFSETTO:-0400
RDATE:20180311T020000
END:DAYLIGHT
END:VTIMEZONE
BEGIN:VEVENT
UID:f081ce71-c483-4488-ac5a-0850ff47d982
DTSTAMP:20260423T025306Z
DESCRIPTION:The museum and theater is closed on Mondays during the school y
 ear. \n\nWe are however\, open on Mondays that fall on holidays and school
  breaks.\n\nAND\n\nWe are open on Mondays for school groups (group minimum
 s apply).
DTSTART;TZID=America/New_York:20170403T000000
DTEND;TZID=America/New_York:20170403T235900
LOCATION:
SUMMARY:Theater Closed
END:VEVENT
END:VCALENDAR
