BEGIN:VCALENDAR
VERSION:2.0
PRODID:-//www.cradleofaviation.org//NONSGML kigkonsult.se iCalcreator 2.30.
 10//
CALSCALE:GREGORIAN
METHOD:PUBLISH
UID:5396d210-0d1c-4a2b-b61a-d041bb80b384
X-WR-CALDESC:Our live\, full dome programs utilize Uniview\, a visualizatio
 n and simulation software aimed at presenting and teaching astronomy\, ast
 rophysics and earth sciences. Our full dome theater is a large-scale immer
 sive environment\, featuring realtime digital planetarium\, and large-form
 at cinema.\n\n<b>Solar System Tour</b>\nOur Solar System has everything yo
 u could want! Planets! Moons! Asteroids! And Comets! All swirling around o
 ur one and only star\, the Sun. Visitors will learn all the different obje
 cts that populate the Solar System and feel the force that keeps worlds sp
 inning.
X-WR-RELCALID:bc185cc9f471517576f03f5d00a9917c
X-WR-TIMEZONE:America/New_York
BEGIN:VTIMEZONE
TZID:America/New_York
BEGIN:STANDARD
TZNAME:EST
DTSTART:20161106T020000
TZOFFSETFROM:-0400
TZOFFSETTO:-0500
RDATE:20171105T020000
END:STANDARD
BEGIN:DAYLIGHT
TZNAME:EDT
DTSTART:20170312T020000
TZOFFSETFROM:-0500
TZOFFSETTO:-0400
RDATE:20180311T020000
END:DAYLIGHT
END:VTIMEZONE
BEGIN:VEVENT
UID:f754f530-eeea-4c4f-93fb-c0a5b6cb66f9
DTSTAMP:20260422T233551Z
DESCRIPTION:Our live\, full dome programs utilize Uniview\, a visualization
  and simulation software aimed at presenting and teaching astronomy\, astr
 ophysics and earth sciences. Our full dome theater is a large-scale immers
 ive environment\, featuring realtime digital planetarium\, and large-forma
 t cinema.\n\n<b>Solar System Tour</b>\nOur Solar System has everything you
  could want! Planets! Moons! Asteroids! And Comets! All swirling around ou
 r one and only star\, the Sun. Visitors will learn all the different objec
 ts that populate the Solar System and feel the force that keeps worlds spi
 nning.
DTSTART;TZID=America/New_York:20170401T120000
DTEND;TZID=America/New_York:20170401T120000
LOCATION:
SUMMARY:Solar System Tour - Space Lab
END:VEVENT
END:VCALENDAR
