BEGIN:VCALENDAR
VERSION:2.0
PRODID:-//www.cradleofaviation.org//NONSGML kigkonsult.se iCalcreator 2.30.
 10//
CALSCALE:GREGORIAN
METHOD:PUBLISH
UID:a93fe7dd-ae81-4e3a-a1d8-4ed2ad2b6b13
X-WR-CALDESC:Our live full dome programs utilize Uniview\, a visualization 
 and simulation software aimed at presenting and teaching astronomy\, astro
 physics and earth sciences. Our full dome theater is a large-scale immersi
 ve environment\, featuring realtime digital planetarium\, and large-format
  cinema.\n\n<b>Geomagnetic Storms and Auroras</b>\nDid you know the Sun is
  invading Earth? Right now it is sending an army of billions\; these charg
 ed particles are blasted to Earth through a solar wind stream attacking ou
 r magnetosphere\, also known as Earth’s force field. Join us to find out a
 bout the direct electrical connection between the Sun and Earth\, learn ab
 out geomagnetic storms\, and see the dangerous but beautiful light shows t
 hey create! This Space Lab was researched by Lani Chau\, a Physics Major a
 t Adelphi University.
X-WR-RELCALID:4a974078f6e9eca4741932f16a79aedf
X-WR-TIMEZONE:America/New_York
BEGIN:VTIMEZONE
TZID:America/New_York
BEGIN:STANDARD
TZNAME:EST
DTSTART:20161106T020000
TZOFFSETFROM:-0400
TZOFFSETTO:-0500
RDATE:20171105T020000
END:STANDARD
BEGIN:DAYLIGHT
TZNAME:EDT
DTSTART:20170312T020000
TZOFFSETFROM:-0500
TZOFFSETTO:-0400
RDATE:20180311T020000
END:DAYLIGHT
END:VTIMEZONE
BEGIN:VEVENT
UID:84ac4e29-2828-4c18-bd55-09045d5d9dea
DTSTAMP:20260422T103553Z
DESCRIPTION:Our live full dome programs utilize Uniview\, a visualization a
 nd simulation software aimed at presenting and teaching astronomy\, astrop
 hysics and earth sciences. Our full dome theater is a large-scale immersiv
 e environment\, featuring realtime digital planetarium\, and large-format 
 cinema.\n\n<b>Geomagnetic Storms and Auroras</b>\nDid you know the Sun is 
 invading Earth? Right now it is sending an army of billions\; these charge
 d particles are blasted to Earth through a solar wind stream attacking our
  magnetosphere\, also known as Earth’s force field. Join us to find out ab
 out the direct electrical connection between the Sun and Earth\, learn abo
 ut geomagnetic storms\, and see the dangerous but beautiful light shows th
 ey create! This Space Lab was researched by Lani Chau\, a Physics Major at
  Adelphi University.
DTSTART;TZID=America/New_York:20170325T120000
DTEND;TZID=America/New_York:20170325T120000
LOCATION:
SUMMARY:Geomagnetic Storms and Auroras - Space Lab
END:VEVENT
END:VCALENDAR
