BEGIN:VCALENDAR
VERSION:2.0
PRODID:-//www.cradleofaviation.org//NONSGML kigkonsult.se iCalcreator 2.30.
 10//
CALSCALE:GREGORIAN
METHOD:PUBLISH
UID:5a22f5f7-79c5-4973-ad46-6bf184c0a1dc
X-WR-CALDESC:Explore the night sky with your favorite friends from Sesame S
 treet in One World\, One Sky: Big Bird's Adventure. Follow along with Big 
 Bird\, Elmo and their friend from China\, Hu Hu Zhu\, as they take you on 
 a journey of discovery to learn about the Big Dipper\, the North Star\, th
 e Sun and the Moon. Running time\, 25 minutes.\n\nOne World\, One Sky: Big
  Bird's Adventure was created as part of a global partnership between the 
 Adler Planetarium\; Sesame Workshop\, the nonprofit educational organizati
 on behind Sesame Street\; the Beijing Planetarium\; and the Liberty Scienc
 e Center (Jersey City\, NJ).
X-WR-RELCALID:bd44d20ee6dfee80191f57c9dfe9f905
X-WR-TIMEZONE:America/New_York
BEGIN:VTIMEZONE
TZID:America/New_York
BEGIN:STANDARD
TZNAME:EST
DTSTART:20161106T020000
TZOFFSETFROM:-0400
TZOFFSETTO:-0500
RDATE:20171105T020000
END:STANDARD
BEGIN:DAYLIGHT
TZNAME:EDT
DTSTART:20170312T020000
TZOFFSETFROM:-0500
TZOFFSETTO:-0400
RDATE:20180311T020000
END:DAYLIGHT
END:VTIMEZONE
BEGIN:VEVENT
UID:fdfa3fde-4178-40e7-a862-12b0f8e9b5d1
DTSTAMP:20260422T103653Z
DESCRIPTION:Explore the night sky with your favorite friends from Sesame St
 reet in One World\, One Sky: Big Bird's Adventure. Follow along with Big B
 ird\, Elmo and their friend from China\, Hu Hu Zhu\, as they take you on a
  journey of discovery to learn about the Big Dipper\, the North Star\, the
  Sun and the Moon. Running time\, 25 minutes.\n\nOne World\, One Sky: Big 
 Bird's Adventure was created as part of a global partnership between the A
 dler Planetarium\; Sesame Workshop\, the nonprofit educational organizatio
 n behind Sesame Street\; the Beijing Planetarium\; and the Liberty Science
  Center (Jersey City\, NJ).
DTSTART;TZID=America/New_York:20170325T100000
DTEND;TZID=America/New_York:20170325T100000
LOCATION:
SUMMARY:One World One Sky: Big Bird's Adventure
END:VEVENT
END:VCALENDAR
