BEGIN:VCALENDAR
VERSION:2.0
PRODID:-//www.cradleofaviation.org//NONSGML kigkonsult.se iCalcreator 2.30.
 10//
CALSCALE:GREGORIAN
METHOD:PUBLISH
UID:ec112cd7-7e04-4869-881b-cd75ffa8a7d8
X-WR-CALDESC:The museum and theater is closed on Mondays during the school 
 year. \n\nWe are however\, open on Mondays that fall on holidays and schoo
 l breaks.\n\nAND\n\nWe are open on Mondays for school groups (group minimu
 ms apply).
X-WR-RELCALID:6cfb023003a270bbba8a4a8e3ca13b9a
X-WR-TIMEZONE:America/New_York
BEGIN:VTIMEZONE
TZID:America/New_York
BEGIN:STANDARD
TZNAME:EST
DTSTART:20161106T020000
TZOFFSETFROM:-0400
TZOFFSETTO:-0500
RDATE:20171105T020000
END:STANDARD
BEGIN:DAYLIGHT
TZNAME:EDT
DTSTART:20160313T020000
TZOFFSETFROM:-0500
TZOFFSETTO:-0400
RDATE:20170312T020000
RDATE:20180311T020000
END:DAYLIGHT
END:VTIMEZONE
BEGIN:VEVENT
UID:a6dedcec-5982-4787-8fb5-52bce08e2036
DTSTAMP:20260423T073515Z
DESCRIPTION:The museum and theater is closed on Mondays during the school y
 ear. \n\nWe are however\, open on Mondays that fall on holidays and school
  breaks.\n\nAND\n\nWe are open on Mondays for school groups (group minimum
 s apply).
DTSTART;TZID=America/New_York:20170313T000000
DTEND;TZID=America/New_York:20170313T235900
LOCATION:
SUMMARY:Theater Closed
END:VEVENT
END:VCALENDAR
