BEGIN:VCALENDAR
VERSION:2.0
PRODID:-//www.cradleofaviation.org//NONSGML kigkonsult.se iCalcreator 2.30.
 10//
CALSCALE:GREGORIAN
METHOD:PUBLISH
UID:35b88d0a-1d98-4e4b-83d7-24dfc74106e1
X-WR-CALDESC:Space Labs - Live Astronomy Programs\nOur educator led\, inter
 active\, full dome programs utilize Uniview\, a visualization and simulati
 on software aimed at presenting and teaching astronomy\, astrophysics and 
 earth sciences. Our full dome theater is a large-scale immersive environme
 nt\, featuring realtime digital planetarium\, and large-format cinema.\n\n
 <b>Light</b>\nEver wonder how a microwave works? Or why the sky is blue? T
 he simple answer is light! Join us as we explore the answers to these ques
 tions and more by taking a closer look at the visible and invisible light 
 all around us. This Space Lab was researched by Kelly Fries\, a Physics an
 d Art History major at Hofstra University.
X-WR-RELCALID:42e69c0a1ab5cbbfff31effaec825c5f
X-WR-TIMEZONE:America/New_York
BEGIN:VTIMEZONE
TZID:America/New_York
BEGIN:STANDARD
TZNAME:EST
DTSTART:20161106T020000
TZOFFSETFROM:-0400
TZOFFSETTO:-0500
RDATE:20171105T020000
END:STANDARD
BEGIN:DAYLIGHT
TZNAME:EDT
DTSTART:20160313T020000
TZOFFSETFROM:-0500
TZOFFSETTO:-0400
RDATE:20170312T020000
RDATE:20180311T020000
END:DAYLIGHT
END:VTIMEZONE
BEGIN:VEVENT
UID:c63af444-67b1-4fe1-80a3-8ebb2a4799ac
DTSTAMP:20260423T131953Z
DESCRIPTION:Space Labs - Live Astronomy Programs\nOur educator led\, intera
 ctive\, full dome programs utilize Uniview\, a visualization and simulatio
 n software aimed at presenting and teaching astronomy\, astrophysics and e
 arth sciences. Our full dome theater is a large-scale immersive environmen
 t\, featuring realtime digital planetarium\, and large-format cinema.\n\n<
 b>Light</b>\nEver wonder how a microwave works? Or why the sky is blue? Th
 e simple answer is light! Join us as we explore the answers to these quest
 ions and more by taking a closer look at the visible and invisible light a
 ll around us. This Space Lab was researched by Kelly Fries\, a Physics and
  Art History major at Hofstra University.
DTSTART;TZID=America/New_York:20170309T100000
DTEND;TZID=America/New_York:20170309T100000
LOCATION:
SUMMARY:Light - Space Lab
END:VEVENT
END:VCALENDAR
