BEGIN:VCALENDAR
VERSION:2.0
PRODID:-//www.cradleofaviation.org//NONSGML kigkonsult.se iCalcreator 2.30.
 10//
CALSCALE:GREGORIAN
METHOD:PUBLISH
UID:813d00e4-b892-4090-bcf8-0482e87dbf32
X-WR-CALDESC:No Theater Shows Today Due to Chocolate Expo Events!
X-WR-RELCALID:43e19e4e1bbb3460c46acfedf9a6b117
X-WR-TIMEZONE:America/New_York
BEGIN:VTIMEZONE
TZID:America/New_York
BEGIN:STANDARD
TZNAME:EST
DTSTART:20161106T020000
TZOFFSETFROM:-0400
TZOFFSETTO:-0500
RDATE:20171105T020000
END:STANDARD
BEGIN:DAYLIGHT
TZNAME:EDT
DTSTART:20160313T020000
TZOFFSETFROM:-0500
TZOFFSETTO:-0400
RDATE:20170312T020000
RDATE:20180311T020000
END:DAYLIGHT
END:VTIMEZONE
BEGIN:VEVENT
UID:39a5a458-3ffe-4ae5-b0a4-1377291352c3
DTSTAMP:20260423T194938Z
DESCRIPTION:No Theater Shows Today Due to Chocolate Expo Events!
DTSTART;TZID=America/New_York:20170305T000000
DTEND;TZID=America/New_York:20170305T235900
LOCATION:
SUMMARY:No Theater Shows Due to Chocolate Expo Events
END:VEVENT
END:VCALENDAR
